BEGIN:VCALENDAR
VERSION:2.0
PRODID:-//Beacon Interfaith - ECPv6.15.20//NONSGML v1.0//EN
CALSCALE:GREGORIAN
METHOD:PUBLISH
X-WR-CALNAME:Beacon Interfaith
X-ORIGINAL-URL:https://www.beaconinterfaith.org
X-WR-CALDESC:Events for Beacon Interfaith
REFRESH-INTERVAL;VALUE=DURATION:PT1H
X-Robots-Tag:noindex
X-PUBLISHED-TTL:PT1H
BEGIN:VTIMEZONE
TZID:America/Chicago
BEGIN:DAYLIGHT
TZOFFSETFROM:-0600
TZOFFSETTO:-0500
TZNAME:CDT
DTSTART:20200308T080000
END:DAYLIGHT
BEGIN:STANDARD
TZOFFSETFROM:-0500
TZOFFSETTO:-0600
TZNAME:CST
DTSTART:20201101T070000
END:STANDARD
BEGIN:DAYLIGHT
TZOFFSETFROM:-0600
TZOFFSETTO:-0500
TZNAME:CDT
DTSTART:20210314T080000
END:DAYLIGHT
BEGIN:STANDARD
TZOFFSETFROM:-0500
TZOFFSETTO:-0600
TZNAME:CST
DTSTART:20211107T070000
END:STANDARD
BEGIN:DAYLIGHT
TZOFFSETFROM:-0600
TZOFFSETTO:-0500
TZNAME:CDT
DTSTART:20220313T080000
END:DAYLIGHT
BEGIN:STANDARD
TZOFFSETFROM:-0500
TZOFFSETTO:-0600
TZNAME:CST
DTSTART:20221106T070000
END:STANDARD
BEGIN:DAYLIGHT
TZOFFSETFROM:-0600
TZOFFSETTO:-0500
TZNAME:CDT
DTSTART:20230312T080000
END:DAYLIGHT
BEGIN:STANDARD
TZOFFSETFROM:-0500
TZOFFSETTO:-0600
TZNAME:CST
DTSTART:20231105T070000
END:STANDARD
BEGIN:DAYLIGHT
TZOFFSETFROM:-0600
TZOFFSETTO:-0500
TZNAME:CDT
DTSTART:20240310T080000
END:DAYLIGHT
BEGIN:STANDARD
TZOFFSETFROM:-0500
TZOFFSETTO:-0600
TZNAME:CST
DTSTART:20241103T070000
END:STANDARD
BEGIN:DAYLIGHT
TZOFFSETFROM:-0600
TZOFFSETTO:-0500
TZNAME:CDT
DTSTART:20250309T080000
END:DAYLIGHT
BEGIN:STANDARD
TZOFFSETFROM:-0500
TZOFFSETTO:-0600
TZNAME:CST
DTSTART:20251102T070000
END:STANDARD
END:VTIMEZONE
BEGIN:VTIMEZONE
TZID:UTC
BEGIN:STANDARD
TZOFFSETFROM:+0000
TZOFFSETTO:+0000
TZNAME:UTC
DTSTART:20180101T000000
END:STANDARD
END:VTIMEZONE
BEGIN:VEVENT
DTSTART;TZID=America/Chicago:20240118T183000
DTEND;TZID=America/Chicago:20240118T203000
DTSTAMP:20260424T140452
CREATED:20231122T173953Z
LAST-MODIFIED:20240103T171114Z
UID:10001778-1705602600-1705609800@www.beaconinterfaith.org
SUMMARY:Congregational Convening - 1/18/24
DESCRIPTION:Join hundreds of Beacon community members to celebrate the impact of our advocacy and organizing power.\nWe’ll ground ourselves in the urgency of the current housing crisis\, explore Beacon’s proposed interventions and legislative campaigns in 2024\, and identify actions we can take to increase access to deeply affordable housing.  \nWe’ll hear from Beacon’s CEO\, Chris LaTondresse\, and other housing champions. Plus\, we’ll spend time in assembly and workshops that will equip us to build the power we need to meet this moment. \nThe first half of the program will be livestreamed with link to be shared before the event. The second half of the program is interactive in-person workshops with no virtual option. \nLight refreshments will be provided.
URL:https://www.beaconinterfaith.org/event/congregational-convening-1-18-24/
LOCATION:Richfield United Methodist Church\, 5835 Lyndale Ave S\, Minneapolis\, MN\, 55419\, United States
CATEGORIES:Congregation Convening
END:VEVENT
BEGIN:VEVENT
DTSTART;TZID=America/Chicago:20221201T183000
DTEND;TZID=America/Chicago:20221201T203000
DTSTAMP:20260424T140452
CREATED:20221004T184235Z
LAST-MODIFIED:20221028T184959Z
UID:10001636-1669919400-1669926600@www.beaconinterfaith.org
SUMMARY:Congregational Convening - 12/01/2022
DESCRIPTION:Join us for our Beacon Congregational Convening. At this convening we will gather as all of the congregations a part of Beacon to:\n• Learn about and celebrate the new five year plan\n• Understand and provide input on our new developments\n• Launch our new Unlock the Metro Campaign: A Campaign for Project Based Vouchers\n• Preview the plan for this upcoming legislative session as we work on Bring it Home\, Minnesota and other important bills \n 
URL:https://www.beaconinterfaith.org/event/congregational-convening/
LOCATION:Gloria Dei Lutheran\, St Paul\, 700 Snelling Ave S\, Saint Paul\, MN\, 55114\, United States
CATEGORIES:Congregation Convening,Policy,Public Action
END:VEVENT
BEGIN:VEVENT
DTSTART;TZID=America/Chicago:20211209T183000
DTEND;TZID=America/Chicago:20211209T203000
DTSTAMP:20260424T140452
CREATED:20211029T183814Z
LAST-MODIFIED:20211209T191451Z
UID:10001537-1639074600-1639081800@www.beaconinterfaith.org
SUMMARY:Joyful Urgency: A Beacon Convening
DESCRIPTION:Click here for our Public Agenda – Joyful Urgency Convening December 2021 \nThe Beacon collaborative has shown tremendous power and resilience over the last year\, working hard to shelter families\, create homes and advocate for our vision that all people have a home. We have continued to lead the growing Bring it Home\, MN campaign. We have stepped boldly into new policy campaigns locally\, pushing the Met Council and City of Minneapolis to live into their commitment to creating homes for those at the lowest incomes.  And most of this work has been done all virtually over Zoom!    \nIt is time to come together to celebrate this great work and move forward in joyful urgency! You are invited to our first Beacon Congregational Convening since the start of the pandemic.  If you have not attended a convening before\, join us to ground ourselves in our vision and collective story and learn the transformational power of the work we are planning this next year. All congregations are invited in whatever way they have participated in Beacon. We especially welcome you if you just learned about Beacon through a congregational in-reach. This event will be a great introduction to Beacon for those new to our work and nourishment for the journey for everyone working for the vision that all people have a home.   \nDo not miss this convening on Thursday\, December 9th. Save the date.       \nThis is a hybrid event\, and everyone has the option of joining us either in person or virtually via Zoom (the link will be shared with you upon registering). \nOur in-person venue will be:\nSt. Stephen Lutheran Church\n8400 France Ave S\, Bloomington\, MN 55431 \nMasks are required for anyone attending in person\, and we will provide extras at the door if you don’t have one. Accessible parking\, seating\, and bathrooms are available on site\, and St. Stephen Lutheran Church welcomes all regardless of gender\, sexual identity\, religious preference\, or ethnic heritage. Closed Captioning will be available on Zoom. For more information on our safety and accessibility policies\, please click here. \n 
URL:https://www.beaconinterfaith.org/event/beacon-convening/
LOCATION:St. Stephen Lutheran Church\, 8400 France Ave S\, Bloomington\, MN\, 55431\, United States
CATEGORIES:Congregation Convening
END:VEVENT
BEGIN:VEVENT
DTSTART;TZID=UTC:20190926T190000
DTEND;TZID=UTC:20190926T203000
DTSTAMP:20260424T140452
CREATED:20190812T194945Z
LAST-MODIFIED:20190813T012137Z
UID:10001314-1569524400-1569529800@www.beaconinterfaith.org
SUMMARY:Congregation Convening: September 2019
DESCRIPTION:Featuring Minnesota Housing Commissioner Jennifer Ho\, we’ll be celebrating the wide array of work Beacon is engaged in\, reflecting on the landscape of housing in our communities\, and looking to the future together. Join with hundreds of others from Beacon collaborating congregations for important updates and commitments to action. Invite members of your congregation to come with you! \n 
URL:https://www.beaconinterfaith.org/event/congregation-convening-september-2019/
LOCATION:Colonial Church\, 6200 Colonial Way\, Edina\, MN\, 55436\, United States
CATEGORIES:Congregation Convening,Public Action
END:VEVENT
END:VCALENDAR