BEGIN:VCALENDAR
VERSION:2.0
PRODID:-//Beacon Interfaith - ECPv6.15.20//NONSGML v1.0//EN
CALSCALE:GREGORIAN
METHOD:PUBLISH
X-WR-CALNAME:Beacon Interfaith
X-ORIGINAL-URL:https://www.beaconinterfaith.org
X-WR-CALDESC:Events for Beacon Interfaith
REFRESH-INTERVAL;VALUE=DURATION:PT1H
X-Robots-Tag:noindex
X-PUBLISHED-TTL:PT1H
BEGIN:VTIMEZONE
TZID:America/Chicago
BEGIN:DAYLIGHT
TZOFFSETFROM:-0600
TZOFFSETTO:-0500
TZNAME:CDT
DTSTART:20240310T080000
END:DAYLIGHT
BEGIN:STANDARD
TZOFFSETFROM:-0500
TZOFFSETTO:-0600
TZNAME:CST
DTSTART:20241103T070000
END:STANDARD
BEGIN:DAYLIGHT
TZOFFSETFROM:-0600
TZOFFSETTO:-0500
TZNAME:CDT
DTSTART:20250309T080000
END:DAYLIGHT
BEGIN:STANDARD
TZOFFSETFROM:-0500
TZOFFSETTO:-0600
TZNAME:CST
DTSTART:20251102T070000
END:STANDARD
BEGIN:DAYLIGHT
TZOFFSETFROM:-0600
TZOFFSETTO:-0500
TZNAME:CDT
DTSTART:20260308T080000
END:DAYLIGHT
BEGIN:STANDARD
TZOFFSETFROM:-0500
TZOFFSETTO:-0600
TZNAME:CST
DTSTART:20261101T070000
END:STANDARD
BEGIN:DAYLIGHT
TZOFFSETFROM:-0600
TZOFFSETTO:-0500
TZNAME:CDT
DTSTART:20270314T080000
END:DAYLIGHT
BEGIN:STANDARD
TZOFFSETFROM:-0500
TZOFFSETTO:-0600
TZNAME:CST
DTSTART:20271107T070000
END:STANDARD
END:VTIMEZONE
BEGIN:VEVENT
DTSTART;TZID=America/Chicago:20260121T130000
DTEND;TZID=America/Chicago:20260121T140000
DTSTAMP:20260424T160057
CREATED:20260106T203131Z
LAST-MODIFIED:20260106T203132Z
UID:10001912-1769000400-1769004000@www.beaconinterfaith.org
SUMMARY:Building Tour: Emerson Village
DESCRIPTION:Family Supportive Homes in Minneapolis
URL:https://www.beaconinterfaith.org/event/building-tour-emerson-village-2/
END:VEVENT
BEGIN:VEVENT
DTSTART;TZID=America/Chicago:20260120T190000
DTEND;TZID=America/Chicago:20260120T203000
DTSTAMP:20260424T160057
CREATED:20251201T173455Z
LAST-MODIFIED:20251201T173456Z
UID:10001904-1768935600-1768941000@www.beaconinterfaith.org
SUMMARY:Beacon Convening
DESCRIPTION:Beacon’s gathering to kick off the 2026 legislative session and continue defending funding for supportive housing.
URL:https://www.beaconinterfaith.org/event/beacon-convening-2/
END:VEVENT
BEGIN:VEVENT
DTSTART;TZID=America/Chicago:20260116T090000
DTEND;TZID=America/Chicago:20260116T110000
DTSTAMP:20260424T160057
CREATED:20251015T205501Z
LAST-MODIFIED:20251217T165923Z
UID:10001897-1768554000-1768561200@www.beaconinterfaith.org
SUMMARY:Donation Drop off: Prairie Pointe
DESCRIPTION:
URL:https://www.beaconinterfaith.org/event/donation-drive-prairie-point-2/
END:VEVENT
BEGIN:VEVENT
DTSTART;TZID=America/Chicago:20260112T160000
DTEND;TZID=America/Chicago:20260112T180000
DTSTAMP:20260424T160057
CREATED:20251016T184126Z
LAST-MODIFIED:20251217T165810Z
UID:10001899-1768233600-1768240800@www.beaconinterfaith.org
SUMMARY:Donation Drop off: Prairie Pointe
DESCRIPTION:
URL:https://www.beaconinterfaith.org/event/donation-drop-off-prairie-pointe/
END:VEVENT
BEGIN:VEVENT
DTSTART;TZID=America/Chicago:20260108T110000
DTEND;TZID=America/Chicago:20260108T121500
DTSTAMP:20260424T160057
CREATED:20251105T153545Z
LAST-MODIFIED:20260105T221038Z
UID:10001902-1767870000-1767874500@www.beaconinterfaith.org
SUMMARY:Canceled: Clergy/Staff Virtual Gathering
DESCRIPTION:
URL:https://www.beaconinterfaith.org/event/clergy-and-staff-virtual-gathering-session-2/
END:VEVENT
BEGIN:VEVENT
DTSTART;TZID=America/Chicago:20260107T083000
DTEND;TZID=America/Chicago:20260107T090000
DTSTAMP:20260424T160057
CREATED:20251222T154148Z
LAST-MODIFIED:20251222T173219Z
UID:10001909-1767774600-1767776400@www.beaconinterfaith.org
SUMMARY:Rent is Due\, 1/7/2026
DESCRIPTION:
URL:https://www.beaconinterfaith.org/event/rent-is-due/
END:VEVENT
BEGIN:VEVENT
DTSTART;TZID=America/Chicago:20251218T164500
DTEND;TZID=America/Chicago:20251218T200000
DTSTAMP:20260424T160057
CREATED:20251203T171820Z
LAST-MODIFIED:20251203T172358Z
UID:10001906-1766076300-1766088000@www.beaconinterfaith.org
SUMMARY:Homeless Memorial March & Service
DESCRIPTION:Plymouth Congregational Church\, 1900 Nicollet Ave. Minneapolis
URL:https://www.beaconinterfaith.org/event/homeless-memorial-march-service/
END:VEVENT
BEGIN:VEVENT
DTSTART;TZID=America/Chicago:20251217T130000
DTEND;TZID=America/Chicago:20251217T140000
DTSTAMP:20260424T160057
CREATED:20250804T160403Z
LAST-MODIFIED:20251204T172413Z
UID:10001885-1765976400-1765980000@www.beaconinterfaith.org
SUMMARY:Building Tour: Cranberry Ridge
DESCRIPTION:Cranberry Ridge in Plymouth is 45 1-\, 2-\, 3-\, and 4-bedroom apartment homes with supportive services for families.
URL:https://www.beaconinterfaith.org/event/building-tour-cranberry-ridge/
END:VEVENT
BEGIN:VEVENT
DTSTART;TZID=America/Chicago:20251203T083000
DTEND;TZID=America/Chicago:20251203T090000
DTSTAMP:20260424T160057
CREATED:20241223T211322Z
LAST-MODIFIED:20241223T211323Z
UID:10001850-1764750600-1764752400@www.beaconinterfaith.org
SUMMARY:Rent is Due December\, 12/3/2025
DESCRIPTION:
URL:https://www.beaconinterfaith.org/event/rent-is-due-december-12-3-2025/
END:VEVENT
BEGIN:VEVENT
DTSTART;TZID=America/Chicago:20251125T190000
DTEND;TZID=America/Chicago:20251126T070000
DTSTAMP:20260424T160057
CREATED:20251117T183212Z
LAST-MODIFIED:20251125T232214Z
UID:10001903-1764097200-1764140400@www.beaconinterfaith.org
SUMMARY:Losing Sleep\, Losing Homes Vigil
DESCRIPTION:Please join us on Tuesday\, November 25\, for a twelve-hour vigil standing in solidarity with those who fear losing their homes and calling on HUD to reverse its plan to cut supportive housing funds through changes to the Continuum of Care program. \n\n\n\nWhy: \n\n\n\nRecent HUD changes to the Continuum of Care program will slash federal homelessness funding for 3\,600 Minnesotans\, with our state losing more than half of this critical support. The result would be thousands of people displaced and a destabilized housing system—triggering an immediate rise in unsheltered homelessness as programs close and Minnesota’s homelessness response is severely disrupted. \n\n\n\nWhere & When: \n\n\n\nWe invite you to sign up for one or more hour-long shifts to participate in this twelve-hour vigil—either virtually using Zoom or in person at the Basilica of St. Mary\, 1600 Hennepin Avenue in Minneapolis\, on Tuesday\, November 25\, from 7:00 pm to 7:00 am on Wednesday\, November 26. Sign up and note your preference below. \n\n\n\nPost about your experience on social media using hashtag #losingsleep4homes. \n\n\n\nMore Details: \n\n\n\nEveryone who registers will receive more details and resources. Those joining in person will also receive parking information. \n\n\n\nStaff and security from sponsoring organizations will be on site at the Basilica throughout the vigil.  \n\n\n\nEvent Sponsored by: \n\n\n\nBeacon Interfaith Housing Collaborative\, The Basilica of St. Mary\, and Catholic Charities Twin Cities. 
URL:https://www.beaconinterfaith.org/event/losing-sleep-losing-homes-vigil/
END:VEVENT
BEGIN:VEVENT
DTSTART;TZID=America/Chicago:20251120T180000
DTEND;TZID=America/Chicago:20251120T203000
DTSTAMP:20260424T160057
CREATED:20251015T155312Z
LAST-MODIFIED:20251104T141625Z
UID:10001895-1763661600-1763670600@www.beaconinterfaith.org
SUMMARY:Film: The Lady in the Van
DESCRIPTION:
URL:https://www.beaconinterfaith.org/event/film-the-lady-in-the-van/
END:VEVENT
BEGIN:VEVENT
DTSTART;TZID=America/Chicago:20251119T130000
DTEND;TZID=America/Chicago:20251119T140000
DTSTAMP:20260424T160057
CREATED:20250804T155104Z
LAST-MODIFIED:20251110T170915Z
UID:10001884-1763557200-1763560800@www.beaconinterfaith.org
SUMMARY:Full: Building Tour: 66 West
DESCRIPTION:
URL:https://www.beaconinterfaith.org/event/building-tour-66-west/
END:VEVENT
BEGIN:VEVENT
DTSTART;TZID=America/Chicago:20251119T090000
DTEND;TZID=America/Chicago:20251119T120000
DTSTAMP:20260424T160057
CREATED:20251016T184525Z
LAST-MODIFIED:20251016T184526Z
UID:10001900-1763542800-1763553600@www.beaconinterfaith.org
SUMMARY:Donation Drop off: Prairie Pointe
DESCRIPTION:
URL:https://www.beaconinterfaith.org/event/donation-drop-off-prairie-pointe-2/
END:VEVENT
BEGIN:VEVENT
DTSTART;TZID=America/Chicago:20251117T150000
DTEND;TZID=America/Chicago:20251117T180000
DTSTAMP:20260424T160057
CREATED:20251015T205120Z
LAST-MODIFIED:20251016T183358Z
UID:10001896-1763391600-1763402400@www.beaconinterfaith.org
SUMMARY:Donation Drop off: Prairie Pointe
DESCRIPTION:
URL:https://www.beaconinterfaith.org/event/donation-drive-prairie-point-1/
END:VEVENT
BEGIN:VEVENT
DTSTART;TZID=America/Chicago:20251106T173000
DTEND;TZID=America/Chicago:20251106T200000
DTSTAMP:20260424T160057
CREATED:20251015T155052Z
LAST-MODIFIED:20251104T141529Z
UID:10001894-1762450200-1762459200@www.beaconinterfaith.org
SUMMARY:Film: Two American Families\, Parts 1 & 2
DESCRIPTION:
URL:https://www.beaconinterfaith.org/event/film-two-american-families-parts-1-2/
END:VEVENT
BEGIN:VEVENT
DTSTART;TZID=America/Chicago:20251105T083000
DTEND;TZID=America/Chicago:20251105T090000
DTSTAMP:20260424T160057
CREATED:20241223T211615Z
LAST-MODIFIED:20241223T211635Z
UID:10001851-1762331400-1762333200@www.beaconinterfaith.org
SUMMARY:Rent Is Due\, 11/5/2025
DESCRIPTION:
URL:https://www.beaconinterfaith.org/event/rent-is-due-11-5-2025/
END:VEVENT
BEGIN:VEVENT
DTSTART;TZID=America/Chicago:20251029T130000
DTEND;TZID=America/Chicago:20251029T140000
DTSTAMP:20260424T160057
CREATED:20250804T162952Z
LAST-MODIFIED:20250804T162953Z
UID:10001888-1761742800-1761746400@www.beaconinterfaith.org
SUMMARY:Building Tour: Prior Crossing
DESCRIPTION:
URL:https://www.beaconinterfaith.org/event/building-tour-prior-crossing/
END:VEVENT
BEGIN:VEVENT
DTSTART;TZID=America/Chicago:20251023T173000
DTEND;TZID=America/Chicago:20251023T203000
DTSTAMP:20260424T160057
CREATED:20251015T154806Z
LAST-MODIFIED:20251015T154808Z
UID:10001893-1761240600-1761251400@www.beaconinterfaith.org
SUMMARY:Film: Same Kind of Different as Me
DESCRIPTION:
URL:https://www.beaconinterfaith.org/event/film-same-kind-of-different-as-me/
END:VEVENT
BEGIN:VEVENT
DTSTART;TZID=America/Chicago:20251005T160000
DTEND;TZID=America/Chicago:20251005T170000
DTSTAMP:20260424T160057
CREATED:20250919T152012Z
LAST-MODIFIED:20250922T135630Z
UID:10001890-1759680000-1759683600@www.beaconinterfaith.org
SUMMARY:Fall (Virtual) Leaders' Assembly
DESCRIPTION:
URL:https://www.beaconinterfaith.org/event/fall-virtual-leaders-assembly/
END:VEVENT
BEGIN:VEVENT
DTSTART;TZID=America/Chicago:20251001T083000
DTEND;TZID=America/Chicago:20251001T090000
DTSTAMP:20260424T160057
CREATED:20241223T211830Z
LAST-MODIFIED:20241223T211831Z
UID:10001852-1759307400-1759309200@www.beaconinterfaith.org
SUMMARY:Rent Is Due\, 10/1/2025
DESCRIPTION:
URL:https://www.beaconinterfaith.org/event/rent-is-due-10-1-2025/
END:VEVENT
BEGIN:VEVENT
DTSTART;TZID=America/Chicago:20250918T180000
DTEND;TZID=America/Chicago:20250918T190000
DTSTAMP:20260424T160057
CREATED:20250821T195957Z
LAST-MODIFIED:20250821T200051Z
UID:10001889-1758218400-1758222000@www.beaconinterfaith.org
SUMMARY:Fall Assembly (Virtual)
DESCRIPTION:
URL:https://www.beaconinterfaith.org/event/fall-assembly-virtual/
END:VEVENT
BEGIN:VEVENT
DTSTART;TZID=America/Chicago:20250917T130000
DTEND;TZID=America/Chicago:20250917T140000
DTSTAMP:20260424T160057
CREATED:20250804T161844Z
LAST-MODIFIED:20250804T161845Z
UID:10001880-1758114000-1758117600@www.beaconinterfaith.org
SUMMARY:Building Tour: Great River Landing
DESCRIPTION:
URL:https://www.beaconinterfaith.org/event/building-tour-great-river-landing-3/
END:VEVENT
BEGIN:VEVENT
DTSTART;TZID=America/Chicago:20250909T120000
DTEND;TZID=America/Chicago:20250909T130000
DTSTAMP:20260424T160057
CREATED:20250522T174747Z
LAST-MODIFIED:20250522T174748Z
UID:10001874-1757419200-1757422800@www.beaconinterfaith.org
SUMMARY:Light the Way Home
DESCRIPTION:
URL:https://www.beaconinterfaith.org/event/light-the-way-home/
END:VEVENT
BEGIN:VEVENT
DTSTART;TZID=America/Chicago:20250903T083000
DTEND;TZID=America/Chicago:20250903T090000
DTSTAMP:20260424T160057
CREATED:20241223T212056Z
LAST-MODIFIED:20241223T212056Z
UID:10001853-1756888200-1756890000@www.beaconinterfaith.org
SUMMARY:Rent is Due\, 9/3/2025
DESCRIPTION:
URL:https://www.beaconinterfaith.org/event/rent-is-due-9-3-2025/
END:VEVENT
BEGIN:VEVENT
DTSTART;TZID=America/Chicago:20250827T130000
DTEND;TZID=America/Chicago:20250827T140000
DTSTAMP:20260424T160057
CREATED:20240827T195407Z
LAST-MODIFIED:20240827T195408Z
UID:10001825-1756299600-1756303200@www.beaconinterfaith.org
SUMMARY:Building tour: Lydia
DESCRIPTION:
URL:https://www.beaconinterfaith.org/event/building-tour-lydia-august/
END:VEVENT
BEGIN:VEVENT
DTSTART;TZID=America/Chicago:20250806T083000
DTEND;TZID=America/Chicago:20250806T090000
DTSTAMP:20260424T160057
CREATED:20241223T213535Z
LAST-MODIFIED:20241223T213601Z
UID:10001854-1754469000-1754470800@www.beaconinterfaith.org
SUMMARY:Rent Is Due\, 8/6/2025
DESCRIPTION:
URL:https://www.beaconinterfaith.org/event/rent-is-due-8-6-2025/
END:VEVENT
BEGIN:VEVENT
DTSTART;TZID=America/Chicago:20250723T130000
DTEND;TZID=America/Chicago:20250723T140000
DTSTAMP:20260424T160057
CREATED:20240827T195138Z
LAST-MODIFIED:20240827T195139Z
UID:10001824-1753275600-1753279200@www.beaconinterfaith.org
SUMMARY:Building tour: Vista 44
DESCRIPTION:
URL:https://www.beaconinterfaith.org/event/building-tour-vista-44-july/
END:VEVENT
BEGIN:VEVENT
DTSTART;TZID=America/Chicago:20250721T153000
DTEND;TZID=America/Chicago:20250721T173000
DTSTAMP:20260424T160057
CREATED:20250430T173738Z
LAST-MODIFIED:20250618T161507Z
UID:10001873-1753111800-1753119000@www.beaconinterfaith.org
SUMMARY:Emerson Village Grand Opening
DESCRIPTION:Featured speakers include: \n\nJacob Frey\, Mayor of the City of Minneapolis\nIrene Fernando\, Hennepin County Commissioner\nJeremiah Ellison\, Minneapolis City Council Member\nChris LaTondresse\, Beacon President & CEO\n\nDownload and share Emerson Village event flyer here. \n 
URL:https://www.beaconinterfaith.org/event/emerson-village-grand-opening/
END:VEVENT
BEGIN:VEVENT
DTSTART;TZID=America/Chicago:20250702T083000
DTEND;TZID=America/Chicago:20250702T090000
DTSTAMP:20260424T160057
CREATED:20241223T213711Z
LAST-MODIFIED:20241223T213712Z
UID:10001855-1751445000-1751446800@www.beaconinterfaith.org
SUMMARY:Rent Is Due\, 7/2/2025
DESCRIPTION:
URL:https://www.beaconinterfaith.org/event/rent-is-due-7-2-2025/
END:VEVENT
BEGIN:VEVENT
DTSTART;TZID=America/Chicago:20250701T183000
DTEND;TZID=America/Chicago:20250701T193000
DTSTAMP:20260424T160057
CREATED:20250527T153411Z
LAST-MODIFIED:20250624T191630Z
UID:10001878-1751394600-1751398200@www.beaconinterfaith.org
SUMMARY:Minneapolis: Defend Federal Funding
DESCRIPTION:Featured Panelists Include: \n\nChris LaTondresse\, CEO/President of Beacon Interfaith Housing Collaborative\nCaroline Hood\, LICSW\, President and CEO\, RS Eden\nRashida Jackson\, Vice President of Housing Operations\, Project for Pride in Living\n\n \n 
URL:https://www.beaconinterfaith.org/event/minneapolis-defend-federal-funding/
END:VEVENT
END:VCALENDAR