BEGIN:VCALENDAR
VERSION:2.0
PRODID:-//Beacon Interfaith - ECPv6.15.20//NONSGML v1.0//EN
CALSCALE:GREGORIAN
METHOD:PUBLISH
X-WR-CALNAME:Beacon Interfaith
X-ORIGINAL-URL:https://www.beaconinterfaith.org
X-WR-CALDESC:Events for Beacon Interfaith
REFRESH-INTERVAL;VALUE=DURATION:PT1H
X-Robots-Tag:noindex
X-PUBLISHED-TTL:PT1H
BEGIN:VTIMEZONE
TZID:America/Chicago
BEGIN:DAYLIGHT
TZOFFSETFROM:-0600
TZOFFSETTO:-0500
TZNAME:CDT
DTSTART:20250309T080000
END:DAYLIGHT
BEGIN:STANDARD
TZOFFSETFROM:-0500
TZOFFSETTO:-0600
TZNAME:CST
DTSTART:20251102T070000
END:STANDARD
BEGIN:DAYLIGHT
TZOFFSETFROM:-0600
TZOFFSETTO:-0500
TZNAME:CDT
DTSTART:20260308T080000
END:DAYLIGHT
BEGIN:STANDARD
TZOFFSETFROM:-0500
TZOFFSETTO:-0600
TZNAME:CST
DTSTART:20261101T070000
END:STANDARD
BEGIN:DAYLIGHT
TZOFFSETFROM:-0600
TZOFFSETTO:-0500
TZNAME:CDT
DTSTART:20270314T080000
END:DAYLIGHT
BEGIN:STANDARD
TZOFFSETFROM:-0500
TZOFFSETTO:-0600
TZNAME:CST
DTSTART:20271107T070000
END:STANDARD
END:VTIMEZONE
BEGIN:VEVENT
DTSTART;TZID=America/Chicago:20260506T083000
DTEND;TZID=America/Chicago:20260506T090000
DTSTAMP:20260424T165817
CREATED:20260408T135120Z
LAST-MODIFIED:20260408T135121Z
UID:10001925-1778056200-1778058000@www.beaconinterfaith.org
SUMMARY:Rent is Due\, 5/6/2026
DESCRIPTION:
URL:https://www.beaconinterfaith.org/event/rent-is-due-5-6-2026/
END:VEVENT
BEGIN:VEVENT
DTSTART;TZID=America/Chicago:20260514T150000
DTEND;TZID=America/Chicago:20260514T163000
DTSTAMP:20260424T165817
CREATED:20260305T152319Z
LAST-MODIFIED:20260324T144754Z
UID:10001920-1778770800-1778776200@www.beaconinterfaith.org
SUMMARY:Prairie Pointe Grand Opening
DESCRIPTION:Prairie Pointe exists because a community chose to show up over many years for families experiencing homelessness and housing insecurity in Scott and Carver County. Join Beacon and partners as we celebrate the Grand Opening of Prairie Pointe\, 42 family supportive homes in Shakopee.  \n\n\n\nWe are grateful to Loeffler Construction for sponsoring this event. \n\n\n\nLocation:465 Sarazin StreetShakopee\, MN 55379  \n\n\n\nEvent Details:3:00 – Program – Speakers announced soon!3:30-4:30 – Community Open HouseTours of community spaces to be offered during the open house. \n\n\n\nPublic is welcome. Your early RSVP is appreciated so we can plan for the number of guests that will join us. Questions? Please contact info@beaconinterfaith.org. \n\n\n\nRSVP using the form below: 
URL:https://www.beaconinterfaith.org/event/prairie-pointe-grand-opening/
ATTACH;FMTTYPE=image/png:https://www.beaconinterfaith.org/wp-content/uploads/2026/03/Grand-Opening-Event-Header.png
END:VEVENT
BEGIN:VEVENT
DTSTART;TZID=America/Chicago:20260519T130000
DTEND;TZID=America/Chicago:20260519T140000
DTSTAMP:20260424T165817
CREATED:20260317T153348Z
LAST-MODIFIED:20260317T165336Z
UID:10001921-1779195600-1779199200@www.beaconinterfaith.org
SUMMARY:Building Tour: Bimosedaa
DESCRIPTION:Supportive housing for individuals in downtown Minneapolis. “Let’s walk together!”
URL:https://www.beaconinterfaith.org/event/building-tour-bimosedaa/
ATTACH;FMTTYPE=image/png:https://www.beaconinterfaith.org/wp-content/uploads/2026/03/2026-MAY-Tour-Bimo.png
END:VEVENT
BEGIN:VEVENT
DTSTART;TZID=America/Chicago:20260603T083000
DTEND;TZID=America/Chicago:20260603T090000
DTSTAMP:20260424T165817
CREATED:20260410T142006Z
LAST-MODIFIED:20260410T142007Z
UID:10001926-1780475400-1780477200@www.beaconinterfaith.org
SUMMARY:Rent is Due\, 6/3/2026
DESCRIPTION:
URL:https://www.beaconinterfaith.org/event/rent-is-due-6-3-2026/
END:VEVENT
BEGIN:VEVENT
DTSTART;TZID=America/Chicago:20260609T070000
DTEND;TZID=America/Chicago:20260609T083000
DTSTAMP:20260424T165817
CREATED:20260415T182447Z
LAST-MODIFIED:20260416T142945Z
UID:10001934-1780988400-1780993800@www.beaconinterfaith.org
SUMMARY:East Metro: Strong Communities Start at Home Event
DESCRIPTION:A fundraising event that showcases Beacon’s proven supportive housing work and why investing in solutions to homelessness benefits everyone who lives and works in the East Metro.  \n\n\n\n\n\n\n\n\n \n 
URL:https://www.beaconinterfaith.org/event/east-metro-strong-communities-start-at-home-event/
ATTACH;FMTTYPE=image/png:https://www.beaconinterfaith.org/wp-content/uploads/2026/04/Fundraiser-Breakfast-Email-Banners-2026.png
END:VEVENT
BEGIN:VEVENT
DTSTART;TZID=America/Chicago:20260617T130000
DTEND;TZID=America/Chicago:20260617T140000
DTSTAMP:20260424T165818
CREATED:20260317T153623Z
LAST-MODIFIED:20260317T163947Z
UID:10001922-1781701200-1781704800@www.beaconinterfaith.org
SUMMARY:Building Tour: Prairie Pointe
DESCRIPTION:Supportive housing for families in Shakopee.
URL:https://www.beaconinterfaith.org/event/building-tour-prairie-pointe/
ATTACH;FMTTYPE=image/png:https://www.beaconinterfaith.org/wp-content/uploads/2026/03/2026-JUNE-Tour-PP.png
END:VEVENT
BEGIN:VEVENT
DTSTART;TZID=America/Chicago:20260708T083000
DTEND;TZID=America/Chicago:20260708T090000
DTSTAMP:20260424T165818
CREATED:20260410T142326Z
LAST-MODIFIED:20260410T142903Z
UID:10001927-1783499400-1783501200@www.beaconinterfaith.org
SUMMARY:Rent is Due\, 7/8/2026
DESCRIPTION:Note: This month the meeting is being held on the 2nd Wednesday of the month.
URL:https://www.beaconinterfaith.org/event/rent-is-due-7-8-2026/
END:VEVENT
BEGIN:VEVENT
DTSTART;TZID=America/Chicago:20260716T160000
DTEND;TZID=America/Chicago:20260716T170000
DTSTAMP:20260424T165818
CREATED:20260317T153749Z
LAST-MODIFIED:20260317T164341Z
UID:10001923-1784217600-1784221200@www.beaconinterfaith.org
SUMMARY:Building Tour: Prior Crossing
DESCRIPTION:Supportive housing for young adults in St. Paul.
URL:https://www.beaconinterfaith.org/event/building-tour-prior-crossing-2/
ATTACH;FMTTYPE=image/png:https://www.beaconinterfaith.org/wp-content/uploads/2026/03/2026-JULY-Tour-Prior.png
END:VEVENT
BEGIN:VEVENT
DTSTART;TZID=America/Chicago:20260805T083000
DTEND;TZID=America/Chicago:20260805T090000
DTSTAMP:20260424T165818
CREATED:20260410T142605Z
LAST-MODIFIED:20260410T142606Z
UID:10001928-1785918600-1785920400@www.beaconinterfaith.org
SUMMARY:Rent is Due\, 8/5/2016
DESCRIPTION:
URL:https://www.beaconinterfaith.org/event/rent-is-due-8-5-2016/
END:VEVENT
BEGIN:VEVENT
DTSTART;TZID=America/Chicago:20260818T130000
DTEND;TZID=America/Chicago:20260818T140000
DTSTAMP:20260424T165818
CREATED:20260317T153854Z
LAST-MODIFIED:20260317T170151Z
UID:10001924-1787058000-1787061600@www.beaconinterfaith.org
SUMMARY:Building Tour: Vista 44
DESCRIPTION:Supportive housing for families in Hopkins.
URL:https://www.beaconinterfaith.org/event/building-tour-vista-44/
ATTACH;FMTTYPE=image/png:https://www.beaconinterfaith.org/wp-content/uploads/2026/03/2026-AUGUST-Tour-Vista-44-1.png
END:VEVENT
BEGIN:VEVENT
DTSTART;TZID=America/Chicago:20260902T083000
DTEND;TZID=America/Chicago:20260902T090000
DTSTAMP:20260424T165818
CREATED:20260410T144450Z
LAST-MODIFIED:20260410T144451Z
UID:10001929-1788337800-1788339600@www.beaconinterfaith.org
SUMMARY:Rent is Due\, 9/2/2026
DESCRIPTION:
URL:https://www.beaconinterfaith.org/event/rent-is-due-9-2-2026/
END:VEVENT
BEGIN:VEVENT
DTSTART;TZID=America/Chicago:20261007T083000
DTEND;TZID=America/Chicago:20261007T090000
DTSTAMP:20260424T165818
CREATED:20260410T143541Z
LAST-MODIFIED:20260410T143542Z
UID:10001930-1791361800-1791363600@www.beaconinterfaith.org
SUMMARY:Rent is Due\, 10/7/2026
DESCRIPTION:
URL:https://www.beaconinterfaith.org/event/rent-is-due-10-7-2026/
END:VEVENT
BEGIN:VEVENT
DTSTART;TZID=America/Chicago:20261104T083000
DTEND;TZID=America/Chicago:20261104T090000
DTSTAMP:20260424T165818
CREATED:20260410T143817Z
LAST-MODIFIED:20260410T143818Z
UID:10001931-1793781000-1793782800@www.beaconinterfaith.org
SUMMARY:Rent is Due\, 11/4/2026
DESCRIPTION:
URL:https://www.beaconinterfaith.org/event/rent-is-due-11-4-2026/
END:VEVENT
BEGIN:VEVENT
DTSTART;TZID=America/Chicago:20261202T083000
DTEND;TZID=America/Chicago:20261202T090000
DTSTAMP:20260424T165818
CREATED:20260410T144049Z
LAST-MODIFIED:20260410T144050Z
UID:10001932-1796200200-1796202000@www.beaconinterfaith.org
SUMMARY:Rent is Due\, 12/2/2026
DESCRIPTION:
URL:https://www.beaconinterfaith.org/event/rent-is-due-12-2-2026/
END:VEVENT
END:VCALENDAR