BEGIN:VCALENDAR
VERSION:2.0
PRODID:-//Beacon Interfaith - ECPv6.15.20//NONSGML v1.0//EN
CALSCALE:GREGORIAN
METHOD:PUBLISH
X-WR-CALNAME:Beacon Interfaith
X-ORIGINAL-URL:https://www.beaconinterfaith.org
X-WR-CALDESC:Events for Beacon Interfaith
REFRESH-INTERVAL;VALUE=DURATION:PT1H
X-Robots-Tag:noindex
X-PUBLISHED-TTL:PT1H
BEGIN:VTIMEZONE
TZID:America/Chicago
BEGIN:DAYLIGHT
TZOFFSETFROM:-0600
TZOFFSETTO:-0500
TZNAME:CDT
DTSTART:20240310T080000
END:DAYLIGHT
BEGIN:STANDARD
TZOFFSETFROM:-0500
TZOFFSETTO:-0600
TZNAME:CST
DTSTART:20241103T070000
END:STANDARD
BEGIN:DAYLIGHT
TZOFFSETFROM:-0600
TZOFFSETTO:-0500
TZNAME:CDT
DTSTART:20250309T080000
END:DAYLIGHT
BEGIN:STANDARD
TZOFFSETFROM:-0500
TZOFFSETTO:-0600
TZNAME:CST
DTSTART:20251102T070000
END:STANDARD
BEGIN:DAYLIGHT
TZOFFSETFROM:-0600
TZOFFSETTO:-0500
TZNAME:CDT
DTSTART:20260308T080000
END:DAYLIGHT
BEGIN:STANDARD
TZOFFSETFROM:-0500
TZOFFSETTO:-0600
TZNAME:CST
DTSTART:20261101T070000
END:STANDARD
END:VTIMEZONE
BEGIN:VEVENT
DTSTART;TZID=America/Chicago:20250918T180000
DTEND;TZID=America/Chicago:20250918T190000
DTSTAMP:20260424T163405
CREATED:20250821T195957Z
LAST-MODIFIED:20250821T200051Z
UID:10001889-1758218400-1758222000@www.beaconinterfaith.org
SUMMARY:Fall Assembly (Virtual)
DESCRIPTION:
URL:https://www.beaconinterfaith.org/event/fall-assembly-virtual/
END:VEVENT
BEGIN:VEVENT
DTSTART;TZID=America/Chicago:20250917T130000
DTEND;TZID=America/Chicago:20250917T140000
DTSTAMP:20260424T163405
CREATED:20250804T161844Z
LAST-MODIFIED:20250804T161845Z
UID:10001880-1758114000-1758117600@www.beaconinterfaith.org
SUMMARY:Building Tour: Great River Landing
DESCRIPTION:
URL:https://www.beaconinterfaith.org/event/building-tour-great-river-landing-3/
END:VEVENT
BEGIN:VEVENT
DTSTART;TZID=America/Chicago:20250909T120000
DTEND;TZID=America/Chicago:20250909T130000
DTSTAMP:20260424T163405
CREATED:20250522T174747Z
LAST-MODIFIED:20250522T174748Z
UID:10001874-1757419200-1757422800@www.beaconinterfaith.org
SUMMARY:Light the Way Home
DESCRIPTION:
URL:https://www.beaconinterfaith.org/event/light-the-way-home/
END:VEVENT
BEGIN:VEVENT
DTSTART;TZID=America/Chicago:20250903T083000
DTEND;TZID=America/Chicago:20250903T090000
DTSTAMP:20260424T163405
CREATED:20241223T212056Z
LAST-MODIFIED:20241223T212056Z
UID:10001853-1756888200-1756890000@www.beaconinterfaith.org
SUMMARY:Rent is Due\, 9/3/2025
DESCRIPTION:
URL:https://www.beaconinterfaith.org/event/rent-is-due-9-3-2025/
END:VEVENT
BEGIN:VEVENT
DTSTART;TZID=America/Chicago:20250827T130000
DTEND;TZID=America/Chicago:20250827T140000
DTSTAMP:20260424T163405
CREATED:20240827T195407Z
LAST-MODIFIED:20240827T195408Z
UID:10001825-1756299600-1756303200@www.beaconinterfaith.org
SUMMARY:Building tour: Lydia
DESCRIPTION:
URL:https://www.beaconinterfaith.org/event/building-tour-lydia-august/
END:VEVENT
BEGIN:VEVENT
DTSTART;TZID=America/Chicago:20250806T083000
DTEND;TZID=America/Chicago:20250806T090000
DTSTAMP:20260424T163405
CREATED:20241223T213535Z
LAST-MODIFIED:20241223T213601Z
UID:10001854-1754469000-1754470800@www.beaconinterfaith.org
SUMMARY:Rent Is Due\, 8/6/2025
DESCRIPTION:
URL:https://www.beaconinterfaith.org/event/rent-is-due-8-6-2025/
END:VEVENT
BEGIN:VEVENT
DTSTART;TZID=America/Chicago:20250723T130000
DTEND;TZID=America/Chicago:20250723T140000
DTSTAMP:20260424T163405
CREATED:20240827T195138Z
LAST-MODIFIED:20240827T195139Z
UID:10001824-1753275600-1753279200@www.beaconinterfaith.org
SUMMARY:Building tour: Vista 44
DESCRIPTION:
URL:https://www.beaconinterfaith.org/event/building-tour-vista-44-july/
END:VEVENT
BEGIN:VEVENT
DTSTART;TZID=America/Chicago:20250721T153000
DTEND;TZID=America/Chicago:20250721T173000
DTSTAMP:20260424T163405
CREATED:20250430T173738Z
LAST-MODIFIED:20250618T161507Z
UID:10001873-1753111800-1753119000@www.beaconinterfaith.org
SUMMARY:Emerson Village Grand Opening
DESCRIPTION:Featured speakers include: \n\nJacob Frey\, Mayor of the City of Minneapolis\nIrene Fernando\, Hennepin County Commissioner\nJeremiah Ellison\, Minneapolis City Council Member\nChris LaTondresse\, Beacon President & CEO\n\nDownload and share Emerson Village event flyer here. \n 
URL:https://www.beaconinterfaith.org/event/emerson-village-grand-opening/
END:VEVENT
BEGIN:VEVENT
DTSTART;TZID=America/Chicago:20250702T083000
DTEND;TZID=America/Chicago:20250702T090000
DTSTAMP:20260424T163405
CREATED:20241223T213711Z
LAST-MODIFIED:20241223T213712Z
UID:10001855-1751445000-1751446800@www.beaconinterfaith.org
SUMMARY:Rent Is Due\, 7/2/2025
DESCRIPTION:
URL:https://www.beaconinterfaith.org/event/rent-is-due-7-2-2025/
END:VEVENT
BEGIN:VEVENT
DTSTART;TZID=America/Chicago:20250701T183000
DTEND;TZID=America/Chicago:20250701T193000
DTSTAMP:20260424T163405
CREATED:20250527T153411Z
LAST-MODIFIED:20250624T191630Z
UID:10001878-1751394600-1751398200@www.beaconinterfaith.org
SUMMARY:Minneapolis: Defend Federal Funding
DESCRIPTION:Featured Panelists Include: \n\nChris LaTondresse\, CEO/President of Beacon Interfaith Housing Collaborative\nCaroline Hood\, LICSW\, President and CEO\, RS Eden\nRashida Jackson\, Vice President of Housing Operations\, Project for Pride in Living\n\n \n 
URL:https://www.beaconinterfaith.org/event/minneapolis-defend-federal-funding/
END:VEVENT
BEGIN:VEVENT
DTSTART;TZID=America/Chicago:20250625T130000
DTEND;TZID=America/Chicago:20250625T140000
DTSTAMP:20260424T163405
CREATED:20240827T194837Z
LAST-MODIFIED:20240827T194838Z
UID:10001823-1750856400-1750860000@www.beaconinterfaith.org
SUMMARY:Building tour: Nicollet Square
DESCRIPTION:
URL:https://www.beaconinterfaith.org/event/building-tour-nicollet-square-june/
END:VEVENT
BEGIN:VEVENT
DTSTART;TZID=America/Chicago:20250618T190000
DTEND;TZID=America/Chicago:20250618T200000
DTSTAMP:20260424T163405
CREATED:20250527T142947Z
LAST-MODIFIED:20250609T191443Z
UID:10001877-1750273200-1750276800@www.beaconinterfaith.org
SUMMARY:St. Paul: Defend Federal Funding
DESCRIPTION:The St. Paul/East Metro event confirmed panel includes: \n\nChris LaTondresse\, CEO/President of Beacon Interfaith Housing Collaborative\nKelly Matter\, CEO/President of Avivo\nKeith Kozerski\, Chief Program Officer\, Catholic Charities Twin Cities \n\n 
URL:https://www.beaconinterfaith.org/event/federal-funding-st-paul/
END:VEVENT
BEGIN:VEVENT
DTSTART;TZID=America/Chicago:20250616T183000
DTEND;TZID=America/Chicago:20250616T193000
DTSTAMP:20260424T163405
CREATED:20250527T162157Z
LAST-MODIFIED:20250609T191534Z
UID:10001879-1750098600-1750102200@www.beaconinterfaith.org
SUMMARY:West Metro: Defend Federal Funding
DESCRIPTION:The Bloomington/West Metro event confirmed panel includes: \n\nChris LaTondresse\, CEO/President of Beacon Interfaith Housing Collaborative\nSteve Horsfield\, Executive Director of Simpson Housing\nJulia K. Donaldson MPH\, MPA | Senior Vice President\, Program Services and Mission Advancement\, Volunteers of America Minnesota and Wisconsin\n\n 
URL:https://www.beaconinterfaith.org/event/north-metro-defend-federal-funding/
END:VEVENT
BEGIN:VEVENT
DTSTART;TZID=America/Chicago:20250604T083000
DTEND;TZID=America/Chicago:20250604T090000
DTSTAMP:20260424T163405
CREATED:20241223T213911Z
LAST-MODIFIED:20241223T213944Z
UID:10001856-1749025800-1749027600@www.beaconinterfaith.org
SUMMARY:Rent Is Due\, 6/4/2025
DESCRIPTION:
URL:https://www.beaconinterfaith.org/event/rent-is-due-6-4-2025/
END:VEVENT
BEGIN:VEVENT
DTSTART;TZID=America/Chicago:20250529T190000
DTEND;TZID=America/Chicago:20250529T203000
DTSTAMP:20260424T163405
CREATED:20250428T205955Z
LAST-MODIFIED:20250430T173952Z
UID:10001871-1748545200-1748550600@www.beaconinterfaith.org
SUMMARY:End of Session Assembly
DESCRIPTION:
URL:https://www.beaconinterfaith.org/event/end-of-session-assembly/
END:VEVENT
BEGIN:VEVENT
DTSTART;TZID=America/Chicago:20250528T130000
DTEND;TZID=America/Chicago:20250528T140000
DTSTAMP:20260424T163405
CREATED:20240827T192805Z
LAST-MODIFIED:20240827T192806Z
UID:10001822-1748437200-1748440800@www.beaconinterfaith.org
SUMMARY:Building tour: Cranberry Ridge
DESCRIPTION:
URL:https://www.beaconinterfaith.org/event/building-tour-cranberry-ridge-may/
END:VEVENT
BEGIN:VEVENT
DTSTART;TZID=America/Chicago:20250507T083000
DTEND;TZID=America/Chicago:20250507T090000
DTSTAMP:20260424T163405
CREATED:20241223T214927Z
LAST-MODIFIED:20241223T214928Z
UID:10001860-1746606600-1746608400@www.beaconinterfaith.org
SUMMARY:Rent Is Due\, 5/7/2025
DESCRIPTION:
URL:https://www.beaconinterfaith.org/event/rent-is-due-5-7-2025/
END:VEVENT
BEGIN:VEVENT
DTSTART;TZID=America/Chicago:20250505T153000
DTEND;TZID=America/Chicago:20250505T170000
DTSTAMP:20260424T163405
CREATED:20250417T192346Z
LAST-MODIFIED:20250502T155144Z
UID:10001870-1746459000-1746464400@www.beaconinterfaith.org
SUMMARY:Prairie Pointe Groundbreaking Celebration
DESCRIPTION:Let’s gather to celebrate the start of construction at Prairie Pointe! Anticipated to be completed late in 2025\, Prairie Pointe in Shakopee will create 42 affordable homes for families in Scott and Carver counties who are experiencing housing insecurity\, offering them the stability of a home where parents and children can flourish. \n\n\n\nEvent detailsPlease register below to let us know that you will join us!Monday\, May 5 | 3:30-5 pm Program at Resonate Church (1760 4th Ave E)\, across from the Prairie Pointe construction site (465 Sarazin St\, Shakopee MN 55379).  \n\n\n\nConfirmed speakers:  \n\n\n\n\nAmanda Woods\, Beacon Resident Advocate\n\n\n\n\n\nCommissioner Jennifer Ho\, Minnesota Housing \n\n\n\n\n\nCommissioner Jody Brennan\, Scott County \n\n\n\n\n\nCommissioner Dale Gade\, Scott County CDA \n\n\n\n\n\nHeather Goodwin – Carver County Director of Health and Human Services \n\n\n\n\n\nPastor Dan Poffenberger\, Shepherd of the Lake Lutheran Church \n\n\n\n\n\nJulie Welch\, Community Champion \n\n\n\n\n\nJulie Manworren\, Volunteers of America-MN/WI President & CEO \n\n\n\n\n\nChris LaTondresse\, Beacon President & CEO \n\n\n\n\nParking is available at Resonate Church\, 1760 4th Ave E. 
URL:https://www.beaconinterfaith.org/event/prairie-pointe-groundbreaking-celebration/
END:VEVENT
BEGIN:VEVENT
DTSTART;TZID=America/Chicago:20250423T130000
DTEND;TZID=America/Chicago:20250423T140000
DTSTAMP:20260424T163405
CREATED:20240917T155231Z
LAST-MODIFIED:20240917T155232Z
UID:10001828-1745413200-1745416800@www.beaconinterfaith.org
SUMMARY:Building tour: Great River Landing\, 4/23/2025
DESCRIPTION:
URL:https://www.beaconinterfaith.org/event/building-tour-great-river-landing-4-23-2025/
END:VEVENT
BEGIN:VEVENT
DTSTART;TZID=America/Chicago:20250402T083000
DTEND;TZID=America/Chicago:20250402T090000
DTSTAMP:20260424T163405
CREATED:20241223T214740Z
LAST-MODIFIED:20241223T214741Z
UID:10001859-1743582600-1743584400@www.beaconinterfaith.org
SUMMARY:Rent Is Due\, 4/2/2025
DESCRIPTION:
URL:https://www.beaconinterfaith.org/event/rent-is-due-4-2-2025/
END:VEVENT
BEGIN:VEVENT
DTSTART;TZID=America/Chicago:20250326T120000
DTEND;TZID=America/Chicago:20250326T130000
DTSTAMP:20260424T163405
CREATED:20250226T213509Z
LAST-MODIFIED:20250226T213510Z
UID:10001868-1742990400-1742994000@www.beaconinterfaith.org
SUMMARY:Building Tour: Emerson Village\, 12 PM
DESCRIPTION:
URL:https://www.beaconinterfaith.org/event/building-tour-emerson-village-12-pm/
END:VEVENT
BEGIN:VEVENT
DTSTART;TZID=America/Chicago:20250320T130000
DTEND;TZID=America/Chicago:20250320T140000
DTSTAMP:20260424T163405
CREATED:20250311T163604Z
LAST-MODIFIED:20250311T163634Z
UID:10001869-1742475600-1742479200@www.beaconinterfaith.org
SUMMARY:Clergy and Staff Virtual Gathering
DESCRIPTION:
URL:https://www.beaconinterfaith.org/event/clergy-and-staff-virtual-gathering_3-20-2025/
END:VEVENT
BEGIN:VEVENT
DTSTART;TZID=America/Chicago:20250305T083000
DTEND;TZID=America/Chicago:20250305T090000
DTSTAMP:20260424T163405
CREATED:20241223T214456Z
LAST-MODIFIED:20241223T214456Z
UID:10001858-1741163400-1741165200@www.beaconinterfaith.org
SUMMARY:Rent Is Due 3/5/2025
DESCRIPTION:
URL:https://www.beaconinterfaith.org/event/rent-is-due-3-5-2025/
END:VEVENT
BEGIN:VEVENT
DTSTART;TZID=America/Chicago:20250225T183000
DTEND;TZID=America/Chicago:20250225T200000
DTSTAMP:20260424T163405
CREATED:20250203T200606Z
LAST-MODIFIED:20250203T200646Z
UID:10001867-1740508200-1740513600@www.beaconinterfaith.org
SUMMARY:Virtual event: How to Build your Beacon Leadership Team
DESCRIPTION:
URL:https://www.beaconinterfaith.org/event/virtual-how-to-build-beacon-leadership-team/
END:VEVENT
BEGIN:VEVENT
DTSTART;TZID=America/Chicago:20250218T090000
DTEND;TZID=America/Chicago:20250218T130000
DTSTAMP:20260424T163405
CREATED:20241220T165004Z
LAST-MODIFIED:20250122T172017Z
UID:10001848-1739869200-1739883600@www.beaconinterfaith.org
SUMMARY:Lobby Day - East Metro\, St. Paul\, and Minneapolis districts 2/18/2025
DESCRIPTION:
URL:https://www.beaconinterfaith.org/event/lobby-day-east-metro-2-18-2025/
LOCATION:Minnesota State Capitol\, 75 Rev Dr Martin Luther King Jr Boulevard\, Saint Paul\, MN\, 55155\, United States
END:VEVENT
BEGIN:VEVENT
DTSTART;TZID=America/Chicago:20250211T090000
DTEND;TZID=America/Chicago:20250211T130000
DTSTAMP:20260424T163405
CREATED:20241220T165217Z
LAST-MODIFIED:20241220T165218Z
UID:10001849-1739264400-1739278800@www.beaconinterfaith.org
SUMMARY:Lobby Day - West and SW Suburban Districts 2/11/2025
DESCRIPTION:
URL:https://www.beaconinterfaith.org/event/lobby-day-west-and-sw-suburban-districts-2-11-2025/
LOCATION:Minnesota State Capitol\, 75 Rev Dr Martin Luther King Jr Boulevard\, Saint Paul\, MN\, 55155\, United States
END:VEVENT
BEGIN:VEVENT
DTSTART;TZID=America/Chicago:20250205T083000
DTEND;TZID=America/Chicago:20250205T090000
DTSTAMP:20260424T163405
CREATED:20241223T214313Z
LAST-MODIFIED:20241223T214314Z
UID:10001857-1738744200-1738746000@www.beaconinterfaith.org
SUMMARY:Rent Is Due: 2/5/2025
DESCRIPTION:
URL:https://www.beaconinterfaith.org/event/rent-is-due-2-5-2025/
END:VEVENT
BEGIN:VEVENT
DTSTART;TZID=America/Chicago:20250204T183000
DTEND;TZID=America/Chicago:20250204T200000
DTSTAMP:20260424T163405
CREATED:20250102T184407Z
LAST-MODIFIED:20250102T184408Z
UID:10001866-1738693800-1738699200@www.beaconinterfaith.org
SUMMARY:Documentary Screening: Shame of Chicago\, episode 5
DESCRIPTION:
URL:https://www.beaconinterfaith.org/event/documentary-screening-shame-of-chicago-episode-5/
END:VEVENT
BEGIN:VEVENT
DTSTART;TZID=America/Chicago:20250130T183000
DTEND;TZID=America/Chicago:20250130T200000
DTSTAMP:20260424T163405
CREATED:20250102T184240Z
LAST-MODIFIED:20250102T184241Z
UID:10001865-1738261800-1738267200@www.beaconinterfaith.org
SUMMARY:Documentary Screening: Shame of Chicago\, episode 4
DESCRIPTION:
URL:https://www.beaconinterfaith.org/event/documentary-screening-shame-of-chicago-episode-4/
END:VEVENT
BEGIN:VEVENT
DTSTART;TZID=America/Chicago:20250123T183000
DTEND;TZID=America/Chicago:20250123T200000
DTSTAMP:20260424T163405
CREATED:20250102T184053Z
LAST-MODIFIED:20250102T184054Z
UID:10001864-1737657000-1737662400@www.beaconinterfaith.org
SUMMARY:Documentary Screening: Shame of Chicago\, episode 3
DESCRIPTION:
URL:https://www.beaconinterfaith.org/event/documentary-screening-shame-of-chicago-episode-3/
END:VEVENT
END:VCALENDAR