BEGIN:VCALENDAR
VERSION:2.0
PRODID:-//Beacon Interfaith - ECPv6.15.20//NONSGML v1.0//EN
CALSCALE:GREGORIAN
METHOD:PUBLISH
X-WR-CALNAME:Beacon Interfaith
X-ORIGINAL-URL:https://www.beaconinterfaith.org
X-WR-CALDESC:Events for Beacon Interfaith
REFRESH-INTERVAL;VALUE=DURATION:PT1H
X-Robots-Tag:noindex
X-PUBLISHED-TTL:PT1H
BEGIN:VTIMEZONE
TZID:America/Chicago
BEGIN:DAYLIGHT
TZOFFSETFROM:-0600
TZOFFSETTO:-0500
TZNAME:CDT
DTSTART:20190310T080000
END:DAYLIGHT
BEGIN:STANDARD
TZOFFSETFROM:-0500
TZOFFSETTO:-0600
TZNAME:CST
DTSTART:20191103T070000
END:STANDARD
BEGIN:DAYLIGHT
TZOFFSETFROM:-0600
TZOFFSETTO:-0500
TZNAME:CDT
DTSTART:20200308T080000
END:DAYLIGHT
BEGIN:STANDARD
TZOFFSETFROM:-0500
TZOFFSETTO:-0600
TZNAME:CST
DTSTART:20201101T070000
END:STANDARD
BEGIN:DAYLIGHT
TZOFFSETFROM:-0600
TZOFFSETTO:-0500
TZNAME:CDT
DTSTART:20210314T080000
END:DAYLIGHT
BEGIN:STANDARD
TZOFFSETFROM:-0500
TZOFFSETTO:-0600
TZNAME:CST
DTSTART:20211107T070000
END:STANDARD
END:VTIMEZONE
BEGIN:VEVENT
DTSTART;TZID=America/Chicago:20200803T083000
DTEND;TZID=America/Chicago:20200803T090000
DTSTAMP:20260422T194649
CREATED:20200702T152859Z
LAST-MODIFIED:20200702T153229Z
UID:10001366-1596443400-1596445200@www.beaconinterfaith.org
SUMMARY:Rent is Due: Day of Action - 8/3/20
DESCRIPTION:Please register below to join us for the August 3 Rent is Due: Day of Action. \nWe know that hundreds of thousands of our neighbors struggle to pay their rent every first of the month. This is disproportionately true for Black\, Brown\, and Indigenous families due to economic inequities stemming from centuries of historical injustice. As a state and as a community\, we have the resources to make sure all people have a home. We need to unite together to advocate for emergency rental assistance for immediate relief from the COVID pandemic and the current economic downturn\, and also work for long-term repair by creating a Minnesota rent subsidy program\, Bring It Home\, MN. \nOn Monday\, August 3\, we will join together at 8:30 a.m. for a thirty-minute update meeting\, where we will go over instructions on how to take action together. Please register below to let us know you will participate and to receive further instructions on how to access the meeting. \nWe are committed to holding a Rent is Due: Day of Action every month\, so please mark your calendars for the rest of the year. We plan on having this event the first of the month\, except when it lands on the weekend. \nWe look forward to joining with you on August 3. \n  \n 
URL:https://www.beaconinterfaith.org/event/action0820/
CATEGORIES:Create New Homes,Public Action
END:VEVENT
BEGIN:VEVENT
DTSTART;TZID=America/Chicago:20200805T140000
DTEND;TZID=America/Chicago:20200805T143000
DTSTAMP:20260422T194649
CREATED:20200727T211045Z
LAST-MODIFIED:20200727T211045Z
UID:10001374-1596636000-1596637800@www.beaconinterfaith.org
SUMMARY:Beacon Now: Cranberry Ridge
DESCRIPTION:Whether you’re brand new to Beacon or have been a supporter for years\, we invite you to attend a virtual “Beacon Now” session. In this session\, we’ll touch on the basics of Beacon’s work\, go in depth on one aspect of that work\, and discuss how we can make a difference for our neighbors now. Encampments of neighbors without a home are again growing. Racial disparities in housing continue to harm communities of color. This session will cover the status of Cranberry Ridge\, our family supportive housing development in Plymouth\, and when we might expect to see the completion of these long awaited homes for families. \n 
URL:https://www.beaconinterfaith.org/event/beacon-now-0805/
CATEGORIES:Point of Entry
END:VEVENT
BEGIN:VEVENT
DTSTART;TZID=America/Chicago:20200806T160000
DTEND;TZID=America/Chicago:20200806T173000
DTSTAMP:20260422T194649
CREATED:20200724T173845Z
LAST-MODIFIED:20200724T173845Z
UID:10001373-1596729600-1596735000@www.beaconinterfaith.org
SUMMARY:Research Visit Training
DESCRIPTION:Are you part of a team that is conducting research visits with legislators\, mayors or other elected officials?  Join this training to learn how to build and/or deepen these relationships as we secure answers to our most pressing questions. \n 
URL:https://www.beaconinterfaith.org/event/research-visit-training/
CATEGORIES:Beacon Academy
END:VEVENT
BEGIN:VEVENT
DTSTART;TZID=America/Chicago:20200810T170000
DTEND;TZID=America/Chicago:20200810T200000
DTSTAMP:20260422T194649
CREATED:20200710T174527Z
LAST-MODIFIED:20200710T174527Z
UID:10001371-1597078800-1597089600@www.beaconinterfaith.org
SUMMARY:Beacon Academy: How to Build a Beacon Leadership Team
DESCRIPTION:You asked for it\, we are delivering!  So many of you have asked for assistance in building or strengthening your leadership team\, we created a workshop just for you!  Whether you are a new congregation in the collaborative\, are committed to joining\, or have been creating a team for awhile\, there is something in this workshop for you. Beacon organizers have over 50 years of organizing experience – including the creation and support of leadership teams. We all know how important it is to align our efforts to achieve our audacious vision of “all people have a home” and we know that the leadership team is the vehicle for how our congregations work to build power together. Creating a leadership team is as much of an art as a science…join us as we share of the essential tools of creating a powerful team ready to engage your congregation in the crucial work of addressing affordable housing and homelessness. \n 
URL:https://www.beaconinterfaith.org/event/ba-blt-0820/
CATEGORIES:Beacon Academy
END:VEVENT
BEGIN:VEVENT
DTSTART;TZID=America/Chicago:20200812T140000
DTEND;TZID=America/Chicago:20200812T143000
DTSTAMP:20260422T194649
CREATED:20200727T211646Z
LAST-MODIFIED:20200727T211646Z
UID:10001375-1597240800-1597242600@www.beaconinterfaith.org
SUMMARY:Beacon Now: Cranberry Ridge
DESCRIPTION:Whether you’re brand new to Beacon or have been a supporter for years\, we invite you to attend a virtual “Beacon Now” session. In this session\, we’ll touch on the basics of Beacon’s work\, go in depth on one aspect of that work\, and discuss how we can make a difference for our neighbors now. Encampments of neighbors without a home are again growing. Racial disparities in housing continue to harm communities of color. This session will cover the status of Cranberry Ridge\, our family supportive housing development in Plymouth\, and when we might expect to see the completion of these long awaited homes for families. \n 
URL:https://www.beaconinterfaith.org/event/beacon-now-0812/
CATEGORIES:Point of Entry
END:VEVENT
BEGIN:VEVENT
DTSTART;TZID=America/Chicago:20200813T183000
DTEND;TZID=America/Chicago:20200813T200000
DTSTAMP:20260422T194649
CREATED:20200702T150619Z
LAST-MODIFIED:20200702T181852Z
UID:10001365-1597343400-1597348800@www.beaconinterfaith.org
SUMMARY:Launch of Family Supportive Housing in North Minneapolis
DESCRIPTION:Join us as we announce new housing for families on Emerson Avenue in North Minneapolis! These apartments\, along with Prairie Pointe in Shakopee and Vista 44 in Hopkins\, will provide high quality\, well-managed homes for families with incomes less than $30\,000. Find out what it will take to make it happen\, and meet others from across the collaborative who will join together in this effort. Let’s show up together for housing on the Northside – register here and await a link to attend the meeting online. \n 
URL:https://www.beaconinterfaith.org/event/nmplslaunch/
CATEGORIES:Create New Homes,Public Action
END:VEVENT
BEGIN:VEVENT
DTSTART;TZID=America/Chicago:20200819T140000
DTEND;TZID=America/Chicago:20200819T143000
DTSTAMP:20260422T194649
CREATED:20200727T211916Z
LAST-MODIFIED:20200727T211916Z
UID:10001376-1597845600-1597847400@www.beaconinterfaith.org
SUMMARY:Beacon Now: Cranberry Ridge
DESCRIPTION:Whether you’re brand new to Beacon or have been a supporter for years\, we invite you to attend a virtual “Beacon Now” session. In this session\, we’ll touch on the basics of Beacon’s work\, go in depth on one aspect of that work\, and discuss how we can make a difference for our neighbors now. Encampments of neighbors without a home are again growing. Racial disparities in housing continue to harm communities of color. This session will cover the status of Cranberry Ridge\, our family supportive housing development in Plymouth\, and when we might expect to see the completion of these long awaited homes for families. \n 
URL:https://www.beaconinterfaith.org/event/beacon-now-0819/
CATEGORIES:Point of Entry
END:VEVENT
BEGIN:VEVENT
DTSTART;TZID=America/Chicago:20200820T180000
DTEND;TZID=America/Chicago:20200820T193000
DTSTAMP:20260422T194649
CREATED:20200807T213237Z
LAST-MODIFIED:20200807T213237Z
UID:10001383-1597946400-1597951800@www.beaconinterfaith.org
SUMMARY:Scott and Carver Regional Assembly: The future of FMF\, Prairie Pointe\, and the housing crisis
DESCRIPTION:Scott and Carver Regional Assembly: The future of FMF\, Prairie Pointe\, and the housing crisis \nJoin almost a dozen congregations from the Southwest collaborative for a virtual meeting as we provide updates and action steps for the future of Families Moving Forward in Scott and Carver Counties\, Prairie Pointe\, and addressing the wave of evictions facing over 250\,000 of our neighbors across Minnesota. We are leading a campaign to change the story around housing and homeless in our communities and organizing for the solutions we need to match the crisis through the “Closer to Home Campaign” \nWe believe that God has given us what we need to thrive\, that we live in a world of abundance\, and that we don’t need to cut one human need for the other. We believe that no matter who you are\, where you live\, who you pray to\, or what you look like\, everyone should have a place to call home at the end of the day. \nJoin us on Thursday\, August 20 from 6 to 7:30 p.m. as we come together to ensure that everyone who calls our communities home has the ability to access and afford one of their own. \n 
URL:https://www.beaconinterfaith.org/event/sca082020/
CATEGORIES:Congregation Leadership
END:VEVENT
BEGIN:VEVENT
DTSTART;TZID=America/Chicago:20200824T160000
DTEND;TZID=America/Chicago:20200824T173000
DTSTAMP:20260422T194649
CREATED:20200817T194514Z
LAST-MODIFIED:20200817T194514Z
UID:10001386-1598284800-1598290200@www.beaconinterfaith.org
SUMMARY:Research Visit Training
DESCRIPTION:Are you part of a team that is conducting research visits with legislators\, mayors or other elected officials?  Join this training to learn how to build and/or deepen these relationships as we secure answers to our most pressing questions. \n 
URL:https://www.beaconinterfaith.org/event/rvt-0824/
CATEGORIES:Beacon Academy
END:VEVENT
BEGIN:VEVENT
DTSTART;TZID=America/Chicago:20200826T140000
DTEND;TZID=America/Chicago:20200826T143000
DTSTAMP:20260422T194649
CREATED:20200727T212231Z
LAST-MODIFIED:20200727T212231Z
UID:10001377-1598450400-1598452200@www.beaconinterfaith.org
SUMMARY:Beacon Now: Cranberry Ridge
DESCRIPTION:Whether you’re brand new to Beacon or have been a supporter for years\, we invite you to attend a virtual “Beacon Now” session. In this session\, we’ll touch on the basics of Beacon’s work\, go in depth on one aspect of that work\, and discuss how we can make a difference for our neighbors now. Encampments of neighbors without a home are again growing. Racial disparities in housing continue to harm communities of color. This session will cover the status of Cranberry Ridge\, our family supportive housing development in Plymouth\, and when we might expect to see the completion of these long awaited homes for families. \n 
URL:https://www.beaconinterfaith.org/event/beacon-now-0826/
CATEGORIES:Point of Entry
END:VEVENT
END:VCALENDAR