BEGIN:VCALENDAR
VERSION:2.0
PRODID:-//Beacon Interfaith - ECPv6.15.20//NONSGML v1.0//EN
CALSCALE:GREGORIAN
METHOD:PUBLISH
X-WR-CALNAME:Beacon Interfaith
X-ORIGINAL-URL:https://www.beaconinterfaith.org
X-WR-CALDESC:Events for Beacon Interfaith
REFRESH-INTERVAL;VALUE=DURATION:PT1H
X-Robots-Tag:noindex
X-PUBLISHED-TTL:PT1H
BEGIN:VTIMEZONE
TZID:America/Chicago
BEGIN:DAYLIGHT
TZOFFSETFROM:-0600
TZOFFSETTO:-0500
TZNAME:CDT
DTSTART:20190310T080000
END:DAYLIGHT
BEGIN:STANDARD
TZOFFSETFROM:-0500
TZOFFSETTO:-0600
TZNAME:CST
DTSTART:20191103T070000
END:STANDARD
BEGIN:DAYLIGHT
TZOFFSETFROM:-0600
TZOFFSETTO:-0500
TZNAME:CDT
DTSTART:20200308T080000
END:DAYLIGHT
BEGIN:STANDARD
TZOFFSETFROM:-0500
TZOFFSETTO:-0600
TZNAME:CST
DTSTART:20201101T070000
END:STANDARD
BEGIN:DAYLIGHT
TZOFFSETFROM:-0600
TZOFFSETTO:-0500
TZNAME:CDT
DTSTART:20210314T080000
END:DAYLIGHT
BEGIN:STANDARD
TZOFFSETFROM:-0500
TZOFFSETTO:-0600
TZNAME:CST
DTSTART:20211107T070000
END:STANDARD
END:VTIMEZONE
BEGIN:VEVENT
DTSTART;TZID=America/Chicago:20200901T083000
DTEND;TZID=America/Chicago:20200901T090000
DTSTAMP:20260422T194712
CREATED:20200819T153516Z
LAST-MODIFIED:20200819T153705Z
UID:10001387-1598949000-1598950800@www.beaconinterfaith.org
SUMMARY:Rent is Due: Day of Action - 9/1/20
DESCRIPTION:Please register below to join us\, and raise our voices together for the September 1\, Rent is Due: Day of Action. \nOur vision is that all people have a home. The pandemic and economic crisis are building into an eviction crisis\, which could add to the already too large number of people experiencing unsheltered homelessness. We cannot let this happen\, and home is the solution. \nWe need Bring it Home\, MN\, a rent subsidy program that will allow all low-income Minnesotans the security and reassurance of home. \nOn Tuesday\, September 1\, when rent is due\, join us at 8:30 a.m. for a thirty-minute update meeting\, where we will learn more about the growing crisis\, reflect together over instructions on how to take action together. \nPlease register below to let us know you will participate and to receive further instructions on how to access the meeting. \nWe are committed to holding a Rent is Due: Day of Action every month\, so please mark your calendars for the rest of the year. We plan on having this event the first of the month\, except when it lands on the weekend. Our next two dates will be Thursday\, October 1\, and Monday\, November 2. \nWe look forward to joining with you on September 1. \n 
URL:https://www.beaconinterfaith.org/event/action-0901/
CATEGORIES:Create New Homes,Public Action
END:VEVENT
BEGIN:VEVENT
DTSTART;TZID=America/Chicago:20200902T140000
DTEND;TZID=America/Chicago:20200902T143000
DTSTAMP:20260422T194712
CREATED:20200727T212720Z
LAST-MODIFIED:20200817T212013Z
UID:10001378-1599055200-1599057000@www.beaconinterfaith.org
SUMMARY:Beacon Now: Emerson Village
DESCRIPTION:Whether you’re brand new to Beacon or have been a supporter for years\, we invite you to attend a virtual “Beacon Now” session. In this session\, we’ll touch on the basics of Beacon’s work\, go in depth on one aspect of that work\, and discuss how we can make a difference for our neighbors now. Encampments of neighbors without a home are again growing. Racial disparities in housing continue to harm communities of color. This session will cover the announcement of Emerson Village\, our newly launched family supportive housing development in North Minneapolis\, and how you can get involved in advocating for these massively needed homes for families. \n 
URL:https://www.beaconinterfaith.org/event/beacon-now-0902/
CATEGORIES:Point of Entry
END:VEVENT
BEGIN:VEVENT
DTSTART;TZID=America/Chicago:20200909T140000
DTEND;TZID=America/Chicago:20200909T143000
DTSTAMP:20260422T194712
CREATED:20200727T214239Z
LAST-MODIFIED:20200817T212008Z
UID:10001379-1599660000-1599661800@www.beaconinterfaith.org
SUMMARY:Beacon Now: Emerson Village
DESCRIPTION:Whether you’re brand new to Beacon or have been a supporter for years\, we invite you to attend a virtual “Beacon Now” session. In this session\, we’ll touch on the basics of Beacon’s work\, go in depth on one aspect of that work\, and discuss how we can make a difference for our neighbors now. Encampments of neighbors without a home are again growing. Racial disparities in housing continue to harm communities of color. This session will cover the announcement of Emerson Village\, our newly launched family supportive housing development in North Minneapolis\, and how you can get involved in advocating for these massively needed homes for families. \n 
URL:https://www.beaconinterfaith.org/event/beacon-now-0909/
CATEGORIES:Point of Entry
END:VEVENT
BEGIN:VEVENT
DTSTART;TZID=America/Chicago:20200912T093000
DTEND;TZID=America/Chicago:20200912T110000
DTSTAMP:20260422T194712
CREATED:20200821T212004Z
LAST-MODIFIED:20200821T212004Z
UID:10001388-1599903000-1599908400@www.beaconinterfaith.org
SUMMARY:Amplifiers Training for Scott and Carver County - 9/12/20
DESCRIPTION:In order to see the housing solutions we need in Scott and Carver counties to become a reality\, we need hundreds of people to share their vision and voices with our locally elected officials. \nOn Saturday\, September 12 from 9:30 a.m. to 11 a.m.\, join members of the Southwest Beacon Collaborative as we learn how to effectively engage our local elected leaders through grassroots advocacy and organizing. \nYou will learn the most effective language to use while making phone calls and writing emails as well as how to utilize social media to make sure your vision and voice is amplified! \nFrom Families Moving Forward to Prairie Pointe\, it’s going to take all of us to make sure our leaders know that we are prioritizing housing for families and so should they! \n 
URL:https://www.beaconinterfaith.org/event/amplifiers0912/
CATEGORIES:Beacon Academy
END:VEVENT
BEGIN:VEVENT
DTSTART;TZID=America/Chicago:20200916T140000
DTEND;TZID=America/Chicago:20200916T143000
DTSTAMP:20260422T194712
CREATED:20200727T214558Z
LAST-MODIFIED:20200817T212004Z
UID:10001380-1600264800-1600266600@www.beaconinterfaith.org
SUMMARY:Beacon Now: Emerson Village
DESCRIPTION:Whether you’re brand new to Beacon or have been a supporter for years\, we invite you to attend a virtual “Beacon Now” session. In this session\, we’ll touch on the basics of Beacon’s work\, go in depth on one aspect of that work\, and discuss how we can make a difference for our neighbors now. Encampments of neighbors without a home are again growing. Racial disparities in housing continue to harm communities of color. This session will cover the announcement of Emerson Village\, our newly launched family supportive housing development in North Minneapolis\, and how you can get involved in advocating for these massively needed homes for families. \n 
URL:https://www.beaconinterfaith.org/event/beacon-now-0916/
CATEGORIES:Point of Entry
END:VEVENT
BEGIN:VEVENT
DTSTART;TZID=America/Chicago:20200921T170000
DTEND;TZID=America/Chicago:20200921T190000
DTSTAMP:20260422T194712
CREATED:20200811T203637Z
LAST-MODIFIED:20200813T193012Z
UID:10001384-1600707600-1600714800@www.beaconinterfaith.org
SUMMARY:The 1-1 Visit: Building Relationships
DESCRIPTION:Practice building relationships and organizing power to create change. \nRelationships are the building blocks to our collective power. Connecting with new leaders is essential\, whether you’re hosting Families Moving Forward\, supporting a new housing development\, or engaging in a policy campaign. Learn the purpose and application of one-to-ones\, and practice your new skill with leaders from other congregations. After you register\, we will email you instructions for how to access the online meeting. \n 
URL:https://www.beaconinterfaith.org/event/ba092120/
CATEGORIES:Beacon Academy
END:VEVENT
BEGIN:VEVENT
DTSTART;TZID=America/Chicago:20200923T140000
DTEND;TZID=America/Chicago:20200923T143000
DTSTAMP:20260422T194712
CREATED:20200727T214828Z
LAST-MODIFIED:20200817T211948Z
UID:10001381-1600869600-1600871400@www.beaconinterfaith.org
SUMMARY:Beacon Now: Emerson Village
DESCRIPTION:Whether you’re brand new to Beacon or have been a supporter for years\, we invite you to attend a virtual “Beacon Now” session. In this session\, we’ll touch on the basics of Beacon’s work\, go in depth on one aspect of that work\, and discuss how we can make a difference for our neighbors now. Encampments of neighbors without a home are again growing. Racial disparities in housing continue to harm communities of color. This session will cover the announcement of Emerson Village\, our newly launched family supportive housing development in North Minneapolis\, and how you can get involved in advocating for these massively needed homes for families. \n 
URL:https://www.beaconinterfaith.org/event/beacon-now-0923/
CATEGORIES:Point of Entry
END:VEVENT
BEGIN:VEVENT
DTSTART;TZID=America/Chicago:20200924T160000
DTEND;TZID=America/Chicago:20200924T180000
DTSTAMP:20260422T194712
CREATED:20200710T210350Z
LAST-MODIFIED:20200904T203728Z
UID:10001372-1600963200-1600970400@www.beaconinterfaith.org
SUMMARY:Beacon Leadership Team Assembly
DESCRIPTION:This virtual assembly will focus on how housing and homelessness is impacted by racial disparities and injustice. In fact\, homelessness can be seen as a symptom of structural racism. We’ll explore some of the initial steps the collaborative is taking to highlight the intersection of race and housing as well as explore what other congregations are doing and how to work racial justice into your team’s plans for the year. \nA link to join this meeting will be emailed to you once you register below. \n 
URL:https://www.beaconinterfaith.org/event/blta-0924/
CATEGORIES:Congregation Leadership
END:VEVENT
BEGIN:VEVENT
DTSTART;TZID=America/Chicago:20200929T160000
DTEND;TZID=America/Chicago:20200929T164500
DTSTAMP:20260422T194712
CREATED:20200814T203059Z
LAST-MODIFIED:20200814T203141Z
UID:10001385-1601395200-1601397900@www.beaconinterfaith.org
SUMMARY:Light the Way Home
DESCRIPTION:Working together\, we believe it’s possible for all people to have a home. We believe we have the power\, if we join our voices and our resources\, to see this happen in our lifetimes. It takes nearly $4 million from our community each year to push our work forward\, with thousands of people giving what they can as a testament to their values.  Light the Way Home is a series of virtual fundraising events where attendees are invited to give generously and introduce others to our vision. Ensuring this future will require the investment of both public and private funds\, and Light the Way Home offers an invitation for you to give generously or in any way that’s meaningful to you. \n 
URL:https://www.beaconinterfaith.org/event/light-the-way-home-sep2020/
CATEGORIES:Create New Homes,Public Action
END:VEVENT
BEGIN:VEVENT
DTSTART;TZID=America/Chicago:20200930T140000
DTEND;TZID=America/Chicago:20200930T143000
DTSTAMP:20260422T194712
CREATED:20200727T215044Z
LAST-MODIFIED:20200817T211006Z
UID:10001382-1601474400-1601476200@www.beaconinterfaith.org
SUMMARY:Beacon Now: Emerson Village
DESCRIPTION:Whether you’re brand new to Beacon or have been a supporter for years\, we invite you to attend a virtual “Beacon Now” session. In this session\, we’ll touch on the basics of Beacon’s work\, go in depth on one aspect of that work\, and discuss how we can make a difference for our neighbors now. Encampments of neighbors without a home are again growing. Racial disparities in housing continue to harm communities of color. This session will cover the announcement of Emerson Village\, our newly launched family supportive housing development in North Minneapolis\, and how you can get involved in advocating for these massively needed homes for families. \n 
URL:https://www.beaconinterfaith.org/event/beacon-now-0930/
CATEGORIES:Point of Entry
END:VEVENT
END:VCALENDAR