BEGIN:VCALENDAR
VERSION:2.0
PRODID:-//Beacon Interfaith - ECPv6.15.20//NONSGML v1.0//EN
CALSCALE:GREGORIAN
METHOD:PUBLISH
X-ORIGINAL-URL:https://www.beaconinterfaith.org
X-WR-CALDESC:Events for Beacon Interfaith
REFRESH-INTERVAL;VALUE=DURATION:PT1H
X-Robots-Tag:noindex
X-PUBLISHED-TTL:PT1H
BEGIN:VTIMEZONE
TZID:America/Chicago
BEGIN:DAYLIGHT
TZOFFSETFROM:-0600
TZOFFSETTO:-0500
TZNAME:CDT
DTSTART:20200308T080000
END:DAYLIGHT
BEGIN:STANDARD
TZOFFSETFROM:-0500
TZOFFSETTO:-0600
TZNAME:CST
DTSTART:20201101T070000
END:STANDARD
BEGIN:DAYLIGHT
TZOFFSETFROM:-0600
TZOFFSETTO:-0500
TZNAME:CDT
DTSTART:20210314T080000
END:DAYLIGHT
BEGIN:STANDARD
TZOFFSETFROM:-0500
TZOFFSETTO:-0600
TZNAME:CST
DTSTART:20211107T070000
END:STANDARD
BEGIN:DAYLIGHT
TZOFFSETFROM:-0600
TZOFFSETTO:-0500
TZNAME:CDT
DTSTART:20220313T080000
END:DAYLIGHT
BEGIN:STANDARD
TZOFFSETFROM:-0500
TZOFFSETTO:-0600
TZNAME:CST
DTSTART:20221106T070000
END:STANDARD
END:VTIMEZONE
BEGIN:VEVENT
DTSTART;TZID=America/Chicago:20210201T083000
DTEND;TZID=America/Chicago:20210201T090000
DTSTAMP:20260422T204258
CREATED:20210119T201637Z
LAST-MODIFIED:20210119T201637Z
UID:10001440-1612168200-1612170000@www.beaconinterfaith.org
SUMMARY:Rent is Due: Day of Action - 2/01/21
DESCRIPTION:Our vision is that all people have a home. The pandemic and economic crisis are building into an eviction crisis\, which could add to the already too large number of people experiencing unsheltered homelessness. We cannot let this happen\, and home is the solution. \nWe need Bring It Home\, MN\, a rent subsidy program that will allow all low-income Minnesotans the security and reassurance of home. \nOn Monday\, February 1\, join us at 8:30 a.m. for a thirty-minute update meeting\, where we will learn more about the growing crisis\, and reflect on how to take action together. \nPlease register below to let us know you will participate and to receive further instructions on how to access the meeting. \nWe look forward to joining with you on February 1.
URL:https://www.beaconinterfaith.org/event/action-20121/
CATEGORIES:Public Action
END:VEVENT
BEGIN:VEVENT
DTSTART;TZID=America/Chicago:20210202T103000
DTEND;TZID=America/Chicago:20210202T123000
DTSTAMP:20260422T204258
CREATED:20210126T174633Z
LAST-MODIFIED:20210126T174633Z
UID:10001449-1612261800-1612269000@www.beaconinterfaith.org
SUMMARY:Bring It Home\, MN - House Hearing 02/02/21
DESCRIPTION:Join us to watch virtually and debrief the hearing for our Bring It Home\, MN bill in the Minnesota House Housing Committee. The bill\, HF 40\, sponsored by Rep. Michael Howard\, creates a Minnesota rent subsidy program to create housing stability for all low-income renters in our state. Beacon is working with Rep. Howard and other supporting organizations to organize. \nWe need to show up to support the bill and all of the testifiers! \nPlease register to commit to watching the hearing. We will send you information on how to watch the hearing and an invitation to a Beacon debrief call after.
URL:https://www.beaconinterfaith.org/event/bringithomemn-house-hearing-0221/
CATEGORIES:Public Action
END:VEVENT
BEGIN:VEVENT
DTSTART;TZID=America/Chicago:20210202T180000
DTEND;TZID=America/Chicago:20210202T200000
DTSTAMP:20260422T204258
CREATED:20210108T193747Z
LAST-MODIFIED:20210125T183939Z
UID:10001437-1612288800-1612296000@www.beaconinterfaith.org
SUMMARY:Beacon Academy: Unpacking Race & Housing
DESCRIPTION:As the collaborative continues its race equity journey we are increasingly aware of the importance to understand the history behind the disparities that exist in the ongoing housing crisis.  Unpacking Race and Housing provides an opportunity to ground ourselves in an understanding of the levels of racism\, the way race has been used to oppress communities of color and Indigenous communities and the impact of that today.  Unpacking Race and Housing is offered as a two-part series\, so participants have ample time for discussion and reflection. \nThis training consists of 2 virtual sessions:\n1. Tuesday\, January 26 from 6 p.m. – 8 p.m.\n2. Tuesday\, February 2 from 6 p.m. – 8 p.m. \nPlease attend both to experience the full training. \nRegistration is now CLOSED for this event\, but you can register the next occurrence of this series here.
URL:https://www.beaconinterfaith.org/event/ba-rh/2021-02-02/
CATEGORIES:Beacon Academy
END:VEVENT
BEGIN:VEVENT
DTSTART;TZID=America/Chicago:20210203T140000
DTEND;TZID=America/Chicago:20210203T143000
DTSTAMP:20260422T204258
CREATED:20210107T224653Z
LAST-MODIFIED:20210107T225057Z
UID:10001432-1612360800-1612362600@www.beaconinterfaith.org
SUMMARY:Beacon Now: Current Projects - 2/3/21
DESCRIPTION:Whether you’re brand new to Beacon or have been a supporter for years\, we invite you to attend a virtual “Beacon Now” session. In this session\, we’ll touch on the basics of Beacon’s work\, go in depth on one aspect of that work\, and discuss how we can make a difference for our neighbors now. Encampments of neighbors without a home are again growing. Racial disparities in housing continue to harm communities of color. This session will cover the status of all current Beacon projects. Join us to learn more and find out how you can get involved in Beacon’s work. \n 
URL:https://www.beaconinterfaith.org/event/beacon-now-0203/
CATEGORIES:Point of Entry
END:VEVENT
BEGIN:VEVENT
DTSTART;TZID=America/Chicago:20210210T140000
DTEND;TZID=America/Chicago:20210210T143000
DTSTAMP:20260422T204258
CREATED:20210107T225327Z
LAST-MODIFIED:20210107T225539Z
UID:10001433-1612965600-1612967400@www.beaconinterfaith.org
SUMMARY:Beacon Now: Current Projects - 2/10/21
DESCRIPTION:Whether you’re brand new to Beacon or have been a supporter for years\, we invite you to attend a virtual “Beacon Now” session. In this session\, we’ll touch on the basics of Beacon’s work\, go in depth on one aspect of that work\, and discuss how we can make a difference for our neighbors now. Encampments of neighbors without a home are again growing. Racial disparities in housing continue to harm communities of color. This session will cover all current Beacon projects. Join us to learn more and find out how you can get involved in Beacon’s work. \n 
URL:https://www.beaconinterfaith.org/event/beacon-now-0210/
CATEGORIES:Point of Entry
END:VEVENT
BEGIN:VEVENT
DTSTART;TZID=America/Chicago:20210213T140000
DTEND;TZID=America/Chicago:20210213T150000
DTSTAMP:20260422T204258
CREATED:20210204T145713Z
LAST-MODIFIED:20210204T145713Z
UID:10001451-1613224800-1613228400@www.beaconinterfaith.org
SUMMARY:Legislative Meeting: Rep. Agbaje
DESCRIPTION:Join members of the Emerson Village team and congregations from across the collaborative to meet newly elected state Representative Esther Agbaje. She has signed onto our Bring It Home\, MN bill and voiced support in the hearing! Wherever you live or worship\, you can be part of introducing her to Beacon and hearing about her perspective on housing. \n 
URL:https://www.beaconinterfaith.org/event/legislative-meeting-rep-agbaje/
CATEGORIES:Policy
END:VEVENT
BEGIN:VEVENT
DTSTART;TZID=America/Chicago:20210217T140000
DTEND;TZID=America/Chicago:20210217T143000
DTSTAMP:20260422T204258
CREATED:20210107T230408Z
LAST-MODIFIED:20210107T230408Z
UID:10001434-1613570400-1613572200@www.beaconinterfaith.org
SUMMARY:Beacon Now: Current Projects - 2/17/21
DESCRIPTION:Whether you’re brand new to Beacon or have been a supporter for years\, we invite you to attend a virtual “Beacon Now” session. In this session\, we’ll touch on the basics of Beacon’s work\, go in depth on one aspect of that work\, and discuss how we can make a difference for our neighbors now. Encampments of neighbors without a home are again growing. Racial disparities in housing continue to harm communities of color. This session will cover all current Beacon projects. Join us to learn more and find out how you can get involved in Beacon’s work. \n 
URL:https://www.beaconinterfaith.org/event/beacon-now-0217/
CATEGORIES:Point of Entry
END:VEVENT
BEGIN:VEVENT
DTSTART;TZID=America/Chicago:20210218T170000
DTEND;TZID=America/Chicago:20210218T183000
DTSTAMP:20260422T204258
CREATED:20210104T203254Z
LAST-MODIFIED:20210107T173853Z
UID:10001424-1613667600-1613673000@www.beaconinterfaith.org
SUMMARY:Beacon Academy: 1-1 Skill Building
DESCRIPTION:Join us for our inaugural monthly 1-1 training and practice session! \nWe’re always talking about the fact that 1-1 relational visits comprise the core building block of our organizing\, so we want to make sure we’re putting our words into action. Drop in for an informal mini-training and practice opportunity. \nWe’ll plan to hold these every 3rd Thursday at this time\, so if you can’t make this month you can make the next! \n 
URL:https://www.beaconinterfaith.org/event/ba1-10221/
CATEGORIES:Beacon Academy
END:VEVENT
BEGIN:VEVENT
DTSTART;TZID=America/Chicago:20210222T150000
DTEND;TZID=America/Chicago:20210222T160000
DTSTAMP:20260422T204258
CREATED:20210215T143833Z
LAST-MODIFIED:20210215T143833Z
UID:10001454-1614006000-1614009600@www.beaconinterfaith.org
SUMMARY:Legislative Meeting: Sen. Fateh
DESCRIPTION:Join us to welcome Senator Omar Fateh (62 – Minneapolis)\, one of our newly elected legislators in Minnesota. His support of Bring It Home\, MN will make a huge difference as we work to ensure all people have a home. Whether you live\, work\, or worship in the district or can show up in solidarity\, join us to introduce him to Beacon!
URL:https://www.beaconinterfaith.org/event/legislative-meeting-sen-fateh/
CATEGORIES:Public Action
END:VEVENT
BEGIN:VEVENT
DTSTART;TZID=America/Chicago:20210222T183000
DTEND;TZID=America/Chicago:20210222T193000
DTSTAMP:20260422T204258
CREATED:20210215T150638Z
LAST-MODIFIED:20210215T150638Z
UID:10001456-1614018600-1614022200@www.beaconinterfaith.org
SUMMARY:Hennepin Summit
DESCRIPTION:We’d like to gather leaders in Minneapolis and Suburban Hennepin County to get everyone up to date on what’s coming up in our region! \nYou have all been showing up in amazing ways this year and it is having an impact. We are now poised to do some pretty powerful work this spring: ambitious plans to meet with City Council members\, a few more of our urban legislators\, Met Council members and County Commissioners. All toward the goal of creating more homes for families with the lowest incomes and keeping people in the homes they have. If we have learned anything this year it’s how essential our voices are in keeping a focus on this. \nSo this summit of awesome Hennepin leaders will give you and your teams a chance to see what you are working on in the big picture and make educated choices about where your congregation can make the biggest difference by showing up. We hope someone will attend from each congregation in Hennepin County.
URL:https://www.beaconinterfaith.org/event/hennepin-summit-feb21/
CATEGORIES:Congregation Leadership
END:VEVENT
BEGIN:VEVENT
DTSTART;TZID=America/Chicago:20210224T140000
DTEND;TZID=America/Chicago:20210224T143000
DTSTAMP:20260422T204258
CREATED:20210107T230656Z
LAST-MODIFIED:20210107T230656Z
UID:10001435-1614175200-1614177000@www.beaconinterfaith.org
SUMMARY:Beacon Now: Current Projects - 2/24/21
DESCRIPTION:Whether you’re brand new to Beacon or have been a supporter for years\, we invite you to attend a virtual “Beacon Now” session. In this session\, we’ll touch on the basics of Beacon’s work\, go in depth on one aspect of that work\, and discuss how we can make a difference for our neighbors now. Encampments of neighbors without a home are again growing. Racial disparities in housing continue to harm communities of color. This session will cover all current Beacon projects. Join us to learn more and find out how you can get involved in Beacon’s work. \n 
URL:https://www.beaconinterfaith.org/event/beacon-now-0224/
CATEGORIES:Point of Entry
END:VEVENT
BEGIN:VEVENT
DTSTART;TZID=America/Chicago:20210225T090000
DTEND;TZID=America/Chicago:20210225T101500
DTSTAMP:20260422T204258
CREATED:20210120T152419Z
LAST-MODIFIED:20210120T152419Z
UID:10001444-1614243600-1614248100@www.beaconinterfaith.org
SUMMARY:Clergy & Religious Leaders Gathering - 02/25/21
DESCRIPTION:Clergy and staff leaders of Beacon congregations are invited to gather monthly for reflection\, discussion\, and support. Hosted by Beacon organizers\, we’ll explore topics related to congregations’ work on shelter\, housing and policy and strengthen our collaborative for a prophetic presence in the public arena. Drop in for one\, or attend them all! Meetings will be virtual.
URL:https://www.beaconinterfaith.org/event/clergy-religious-leaders-gathering-0221/
CATEGORIES:Congregation Leadership
END:VEVENT
END:VCALENDAR