BEGIN:VCALENDAR
VERSION:2.0
PRODID:-//Beacon Interfaith - ECPv6.15.20//NONSGML v1.0//EN
CALSCALE:GREGORIAN
METHOD:PUBLISH
X-WR-CALNAME:Beacon Interfaith
X-ORIGINAL-URL:https://www.beaconinterfaith.org
X-WR-CALDESC:Events for Beacon Interfaith
REFRESH-INTERVAL;VALUE=DURATION:PT1H
X-Robots-Tag:noindex
X-PUBLISHED-TTL:PT1H
BEGIN:VTIMEZONE
TZID:America/Chicago
BEGIN:DAYLIGHT
TZOFFSETFROM:-0600
TZOFFSETTO:-0500
TZNAME:CDT
DTSTART:20200308T080000
END:DAYLIGHT
BEGIN:STANDARD
TZOFFSETFROM:-0500
TZOFFSETTO:-0600
TZNAME:CST
DTSTART:20201101T070000
END:STANDARD
BEGIN:DAYLIGHT
TZOFFSETFROM:-0600
TZOFFSETTO:-0500
TZNAME:CDT
DTSTART:20210314T080000
END:DAYLIGHT
BEGIN:STANDARD
TZOFFSETFROM:-0500
TZOFFSETTO:-0600
TZNAME:CST
DTSTART:20211107T070000
END:STANDARD
BEGIN:DAYLIGHT
TZOFFSETFROM:-0600
TZOFFSETTO:-0500
TZNAME:CDT
DTSTART:20220313T080000
END:DAYLIGHT
BEGIN:STANDARD
TZOFFSETFROM:-0500
TZOFFSETTO:-0600
TZNAME:CST
DTSTART:20221106T070000
END:STANDARD
END:VTIMEZONE
BEGIN:VEVENT
DTSTART;TZID=America/Chicago:20210301T083000
DTEND;TZID=America/Chicago:20210301T090000
DTSTAMP:20260422T194648
CREATED:20210119T202312Z
LAST-MODIFIED:20210204T132433Z
UID:10001441-1614587400-1614589200@www.beaconinterfaith.org
SUMMARY:Rent is Due: Day of Action - 3/01/21
DESCRIPTION:Our vision is that all people have a home. The pandemic and economic crisis are building into an eviction crisis\, which could add to the already too large number of people experiencing unsheltered homelessness. We cannot let this happen\, and home is the solution. \nWe need Bring It Home\, MN\, a rent subsidy program that will allow all low-income Minnesotans the security and reassurance of home. \nOn Monday\, March 1\, join us at 8:30 a.m. for a thirty-minute update meeting\, where we will learn more about the growing crisis\, and reflect on how to take action together. \nPlease register below to let us know you will participate and to receive further instructions on how to access the meeting. \nWe look forward to joining with you on March 1.
URL:https://www.beaconinterfaith.org/event/action-30121/
CATEGORIES:Public Action
END:VEVENT
BEGIN:VEVENT
DTSTART;TZID=America/Chicago:20210301T160000
DTEND;TZID=America/Chicago:20210301T180000
DTSTAMP:20260422T194648
CREATED:20210204T134233Z
LAST-MODIFIED:20210204T134233Z
UID:10001450-1614614400-1614621600@www.beaconinterfaith.org
SUMMARY:Leadership Assembly
DESCRIPTION:We love getting our leaders together\, and know you love it too! Our next Leadership Assembly will be on Monday\, March 1st from 4 – 6 p.m.  We will hold a brief social media training for all those wanting to learn how to effectively use Facebook\, Twitter and other tools in promoting your events and Beacon’s campaigns. We’ll also provide a Bring It Home\, MN update and share the campaign to fully fund Vista 44 and Emerson Village. Finally\, we’ll spend time learning with and from each other on all the ways we can engage people as this unimaginable virtual world continues. \n 
URL:https://www.beaconinterfaith.org/event/leadership-assembly-march21/
CATEGORIES:Congregation Leadership
END:VEVENT
BEGIN:VEVENT
DTSTART;TZID=America/Chicago:20210303T140000
DTEND;TZID=America/Chicago:20210303T143000
DTSTAMP:20260422T194648
CREATED:20210225T195728Z
LAST-MODIFIED:20210225T195728Z
UID:10001457-1614780000-1614781800@www.beaconinterfaith.org
SUMMARY:Beacon Now: Current Projects - 3/03/21
DESCRIPTION:Whether you’re brand new to Beacon or have been a supporter for years\, we invite you to attend a virtual “Beacon Now” session. In this session\, we’ll touch on the basics of Beacon’s work\, go in depth on one aspect of that work\, and discuss how we can make a difference for our neighbors now. Encampments of neighbors without a home are again growing. Racial disparities in housing continue to harm communities of color. This session will cover all current Beacon projects. Join us to learn more and find out how you can get involved in Beacon’s work.
URL:https://www.beaconinterfaith.org/event/beacon-now-current-projects-3-03-21/
END:VEVENT
BEGIN:VEVENT
DTSTART;TZID=America/Chicago:20210305T123000
DTEND;TZID=America/Chicago:20210305T131500
DTSTAMP:20260422T194648
CREATED:20210215T145044Z
LAST-MODIFIED:20210302T185400Z
UID:10001455-1614947400-1614950100@www.beaconinterfaith.org
SUMMARY:Legislative Meeting: Rep. Greenman
DESCRIPTION:Join us to welcome Representative Emma Greenman (63B – Minneapolis / Richfield)\, one of our newly elected legislators in Minnesota. Her support of Bring It Home\, MN will make a huge difference as we work to ensure all people have a home. Whether you live\, work\, or worship in the district or can show up in solidarity\, join us to introduce her to Beacon! \n**Please note: this event was originally slated to begin at 1 p.m. but will now begin at 12:30 p.m.**
URL:https://www.beaconinterfaith.org/event/legislative-meeting-rep-greenman-mar21/
CATEGORIES:Public Action
END:VEVENT
BEGIN:VEVENT
DTSTART;TZID=America/Chicago:20210309T180000
DTEND;TZID=America/Chicago:20210309T203000
DTSTAMP:20260422T194648
CREATED:20210302T192041Z
LAST-MODIFIED:20210302T192041Z
UID:10001458-1615312800-1615321800@www.beaconinterfaith.org
SUMMARY:Starting Your Beacon Leadership Team
DESCRIPTION:Beacon Leadership Teams (or BLTs as we like to call them) are the necessary liaison between the congregation and the collaborative. This workshop focuses on who to look for in creating your team\, how to develop leaders and engage your congregation\, and how to develop an organizing plan that connects your faith traditions to the work of the collaborative in housing and policy. \n 
URL:https://www.beaconinterfaith.org/event/starting-your-beacon-leadership-team-march21/
CATEGORIES:Congregation Leadership
END:VEVENT
BEGIN:VEVENT
DTSTART;TZID=America/Chicago:20210310T140000
DTEND;TZID=America/Chicago:20210310T143000
DTSTAMP:20260422T194648
CREATED:20210304T173710Z
LAST-MODIFIED:20210304T173710Z
UID:10001461-1615384800-1615386600@www.beaconinterfaith.org
SUMMARY:Beacon Now: Current Projects
DESCRIPTION:Whether you’re brand new to Beacon or have been a supporter for years\, we invite you to attend a virtual “Beacon Now” session. In this session\, we’ll touch on the basics of Beacon’s work\, go in depth on one aspect of that work\, and discuss how we can make a difference for Minnesotans now. Encampments of people without a home are again growing. Racial disparities in housing continue to harm communities of color. This session will cover all current Beacon projects. Join us to learn more and find out how you can get involved in Beacon’s work. \n 
URL:https://www.beaconinterfaith.org/event/beacon-now-03-10-2021/
CATEGORIES:Point of Entry
END:VEVENT
BEGIN:VEVENT
DTSTART;TZID=America/Chicago:20210314T140000
DTEND;TZID=America/Chicago:20210314T144500
DTSTAMP:20260422T194648
CREATED:20210303T145957Z
LAST-MODIFIED:20210303T145957Z
UID:10001459-1615730400-1615733100@www.beaconinterfaith.org
SUMMARY:Legislative Meeting: Sen. Murphy
DESCRIPTION:Join us to welcome Senator Erin Murphy (64 – St. Paul)\, one of our newly elected legislators in Minnesota. Her support of Bring It Home\, MN will make a huge difference as we work to ensure all people have a home. Whether you live\, work\, or worship in the district or can show up in solidarity\, join us to talk with her about housing\, Beacon\, and Bring it Home\, MN! \n 
URL:https://www.beaconinterfaith.org/event/legislative-meeting-sen-murphy/
CATEGORIES:Public Action
END:VEVENT
BEGIN:VEVENT
DTSTART;TZID=America/Chicago:20210316T160000
DTEND;TZID=America/Chicago:20210316T164500
DTSTAMP:20260422T194648
CREATED:20210122T152836Z
LAST-MODIFIED:20210222T172716Z
UID:10001448-1615910400-1615913100@www.beaconinterfaith.org
SUMMARY:Light the Way Home
DESCRIPTION:Working together\, we believe it’s possible for all people to have a home. If we join our voices and our resources\, we believe we have the power to see this happen in our lifetimes. Ensuring this future will require the investment of both public and private funds. \nIt takes nearly $4 million from our community each year to push our work forward. Thousands of people give what they can as a testament to their values. \nLight the Way Home is a series of virtual fundraising events where attendees are invited to give generously and introduce others to our vision. Light the Way Home offers an invitation for you to give generously or in any way that’s meaningful to you. \n**Please select “Attendee: Quantity 1” below to begin your registration:
URL:https://www.beaconinterfaith.org/event/light-the-way-home-0321/
CATEGORIES:Fundraiser
END:VEVENT
BEGIN:VEVENT
DTSTART;TZID=America/Chicago:20210317T093000
DTEND;TZID=America/Chicago:20210317T100000
DTSTAMP:20260422T194648
CREATED:20210303T151632Z
LAST-MODIFIED:20210303T151632Z
UID:10001460-1615973400-1615975200@www.beaconinterfaith.org
SUMMARY:Legislative Meeting: Sen. Draheim
DESCRIPTION:Join us on Wednesday March 17th from 9:30 – 10 a.m. as we meet with Senator Rich Draheim\, Chair of the Housing Finance and Policy Committee. \nIn this legislative visit we will learn more about Senator Draheim’s  vision for housing in Minnesota\, share our own\, and ask that our bill\, Bring It Home\, MN\, gets a hearing in his Senate Committee in the 2021 legislative session! \n 
URL:https://www.beaconinterfaith.org/event/legislative-meeting-sen-draheim/
CATEGORIES:Public Action
END:VEVENT
BEGIN:VEVENT
DTSTART;TZID=America/Chicago:20210317T140000
DTEND;TZID=America/Chicago:20210317T143000
DTSTAMP:20260422T194648
CREATED:20210304T174533Z
LAST-MODIFIED:20210304T174533Z
UID:10001462-1615989600-1615991400@www.beaconinterfaith.org
SUMMARY:Beacon Now: Current Projects
DESCRIPTION:Whether you’re brand new to Beacon or have been a supporter for years\, we invite you to attend a virtual “Beacon Now” session. In this session\, we’ll touch on the basics of Beacon’s work\, go in depth on one aspect of that work\, and discuss how we can make a difference for Minnesotans now. Encampments of people without a home are again growing. Racial disparities in housing continue to harm communities of color. This session will cover all current Beacon projects. Join us to learn more and find out how you can get involved in Beacon’s work. \n 
URL:https://www.beaconinterfaith.org/event/beacon-now-3-17-21/
CATEGORIES:Point of Entry
END:VEVENT
BEGIN:VEVENT
DTSTART;TZID=America/Chicago:20210318T170000
DTEND;TZID=America/Chicago:20210318T183000
DTSTAMP:20260422T194648
CREATED:20210104T203254Z
LAST-MODIFIED:20210224T174140Z
UID:10001425-1616086800-1616092200@www.beaconinterfaith.org
SUMMARY:Beacon Academy: 1-1 Skill Building
DESCRIPTION:Join us for our inaugural monthly 1-1 training and practice session! \nWe’re always talking about the fact that 1-1 relational visits comprise the core building block of our organizing\, so we want to make sure we’re putting our words into action. Drop in for an informal mini-training and practice opportunity. \nWe’ll plan to hold these every 3rd Thursday at this time\, so if you can’t make this month you can make the next! \n 
URL:https://www.beaconinterfaith.org/event/ba1-1-0321/
CATEGORIES:Beacon Academy
END:VEVENT
BEGIN:VEVENT
DTSTART;TZID=America/Chicago:20210322T110000
DTEND;TZID=America/Chicago:20210322T120000
DTSTAMP:20260422T194648
CREATED:20210312T174119Z
LAST-MODIFIED:20210312T174119Z
UID:10001468-1616410800-1616414400@www.beaconinterfaith.org
SUMMARY:Funding Home: A Conversation with Mayor Frey
DESCRIPTION:Did you know that the City of Minneapolis invests millions every year in the Affordable Housing Trust Fund? This is one of the sources of capital that has helped our collaborative build housing like Bimosedaa and Lydia Apartments. But only 20% of the apartments funded in 2020 were affordable for people earning incomes below $30\,000 – and we think the City should commit to increasing that. Join the Emerson Village team leaders for a conversation with Mayor Frey about how the Trust Fund could better live up to its potential as a powerful tool to reduce homelessness. \n 
URL:https://www.beaconinterfaith.org/event/funding-home-mayor-frey-032221/
CATEGORIES:Public Action
END:VEVENT
BEGIN:VEVENT
DTSTART;TZID=America/Chicago:20210324T100000
DTEND;TZID=America/Chicago:20210324T104500
DTSTAMP:20260422T194648
CREATED:20210317T151021Z
LAST-MODIFIED:20210322T221407Z
UID:10001474-1616580000-1616582700@www.beaconinterfaith.org
SUMMARY:Legislative Meeting: Rep. Heather Edelson - 3/24/21
DESCRIPTION:Join us in conversation with State Representative Heather (District 49A– Edina). Her recent support of Bring It Home\, MN will make a huge difference as we work to ensure all people have a home. Whether you live\, work\, or worship in the district or can show up in solidarity\, join us to talk with her about housing\, Beacon\, and Bring it Home\, MN! \nRegister below to receive instructions for how to attend this virtual event. \n 
URL:https://www.beaconinterfaith.org/event/rep-edelson/
CATEGORIES:Public Action
END:VEVENT
BEGIN:VEVENT
DTSTART;TZID=America/Chicago:20210324T140000
DTEND;TZID=America/Chicago:20210324T143000
DTSTAMP:20260422T194648
CREATED:20210304T180549Z
LAST-MODIFIED:20210304T180549Z
UID:10001463-1616594400-1616596200@www.beaconinterfaith.org
SUMMARY:Beacon Now: Current Projects
DESCRIPTION:Whether you’re brand new to Beacon or have been a supporter for years\, we invite you to attend a virtual “Beacon Now” session. In this session\, we’ll touch on the basics of Beacon’s work\, go in depth on one aspect of that work\, and discuss how we can make a difference for Minnesotans now. Encampments of people without a home are again growing. Racial disparities in housing continue to harm communities of color. This session will cover all current Beacon projects. Join us to learn more and find out how you can get involved in Beacon’s work. \n 
URL:https://www.beaconinterfaith.org/event/beacon-now-3-24-21/
CATEGORIES:Point of Entry
END:VEVENT
BEGIN:VEVENT
DTSTART;TZID=America/Chicago:20210325T090000
DTEND;TZID=America/Chicago:20210325T101500
DTSTAMP:20260422T194648
CREATED:20210120T182523Z
LAST-MODIFIED:20210120T182523Z
UID:10001445-1616662800-1616667300@www.beaconinterfaith.org
SUMMARY:Clergy & Religious Leaders Gathering - 03/25/21
DESCRIPTION:Clergy and staff leaders of Beacon congregations are invited to gather monthly for reflection\, discussion\, and support. Hosted by Beacon organizers\, we’ll explore topics related to congregations’ work on shelter\, housing and policy and strengthen our collaborative for a prophetic presence in the public arena. Drop in for one\, or attend them all! Meetings will be virtual.
URL:https://www.beaconinterfaith.org/event/clergy-religious-leaders-gathering-0321/
CATEGORIES:Congregation Leadership
END:VEVENT
BEGIN:VEVENT
DTSTART;TZID=America/Chicago:20210330T180000
DTEND;TZID=America/Chicago:20210330T200000
DTSTAMP:20260422T194648
CREATED:20210210T142537Z
LAST-MODIFIED:20210309T125736Z
UID:10001453-1617127200-1617134400@www.beaconinterfaith.org
SUMMARY:Beacon Academy: Building Home
DESCRIPTION:Do you know what the three buckets of funding are needed to create affordable homes? Can you describe what supportive housing is? Here’s the tough one – who does it include when we say our focus is creating homes for those at 30% of the area median income (AMI)? \nBuilding Home is our introduction to housing development – no experience necessary!
URL:https://www.beaconinterfaith.org/event/beacon-academy-building-home-spring21/
CATEGORIES:Beacon Academy
END:VEVENT
BEGIN:VEVENT
DTSTART;TZID=America/Chicago:20210331T140000
DTEND;TZID=America/Chicago:20210331T143000
DTSTAMP:20260422T194648
CREATED:20210304T181139Z
LAST-MODIFIED:20210304T181139Z
UID:10001464-1617199200-1617201000@www.beaconinterfaith.org
SUMMARY:Beacon Now: Current Projects
DESCRIPTION:Whether you’re brand new to Beacon or have been a supporter for years\, we invite you to attend a virtual “Beacon Now” session. In this session\, we’ll touch on the basics of Beacon’s work\, go in depth on one aspect of that work\, and discuss how we can make a difference for Minnesotans now. Encampments of people without a home are again growing. Racial disparities in housing continue to harm communities of color. This session will cover all current Beacon projects. Join us to learn more and find out how you can get involved in Beacon’s work. \n 
URL:https://www.beaconinterfaith.org/event/beacon-now-3-31-21/
CATEGORIES:Point of Entry
END:VEVENT
END:VCALENDAR