BEGIN:VCALENDAR
VERSION:2.0
PRODID:-//Beacon Interfaith - ECPv6.15.20//NONSGML v1.0//EN
CALSCALE:GREGORIAN
METHOD:PUBLISH
X-ORIGINAL-URL:https://www.beaconinterfaith.org
X-WR-CALDESC:Events for Beacon Interfaith
REFRESH-INTERVAL;VALUE=DURATION:PT1H
X-Robots-Tag:noindex
X-PUBLISHED-TTL:PT1H
BEGIN:VTIMEZONE
TZID:America/Chicago
BEGIN:DAYLIGHT
TZOFFSETFROM:-0600
TZOFFSETTO:-0500
TZNAME:CDT
DTSTART:20250309T080000
END:DAYLIGHT
BEGIN:STANDARD
TZOFFSETFROM:-0500
TZOFFSETTO:-0600
TZNAME:CST
DTSTART:20251102T070000
END:STANDARD
BEGIN:DAYLIGHT
TZOFFSETFROM:-0600
TZOFFSETTO:-0500
TZNAME:CDT
DTSTART:20260308T080000
END:DAYLIGHT
BEGIN:STANDARD
TZOFFSETFROM:-0500
TZOFFSETTO:-0600
TZNAME:CST
DTSTART:20261101T070000
END:STANDARD
BEGIN:DAYLIGHT
TZOFFSETFROM:-0600
TZOFFSETTO:-0500
TZNAME:CDT
DTSTART:20270314T080000
END:DAYLIGHT
BEGIN:STANDARD
TZOFFSETFROM:-0500
TZOFFSETTO:-0600
TZNAME:CST
DTSTART:20271107T070000
END:STANDARD
END:VTIMEZONE
BEGIN:VEVENT
DTSTART;TZID=America/Chicago:20260204T083000
DTEND;TZID=America/Chicago:20260204T090000
DTSTAMP:20260424T131010
CREATED:20260106T204916Z
LAST-MODIFIED:20260106T204917Z
UID:10001913-1770193800-1770195600@www.beaconinterfaith.org
SUMMARY:Rent is Due\, 2/4/2026
DESCRIPTION:
URL:https://www.beaconinterfaith.org/event/rent-is-due-2-4-2026/
END:VEVENT
BEGIN:VEVENT
DTSTART;TZID=America/Chicago:20260208T100000
DTEND;TZID=America/Chicago:20260208T140000
DTSTAMP:20260424T131010
CREATED:20260130T180843Z
LAST-MODIFIED:20260130T180844Z
UID:10001919-1770544800-1770559200@www.beaconinterfaith.org
SUMMARY:Souper Bowl Kingsfield Event
DESCRIPTION:
URL:https://www.beaconinterfaith.org/event/souper-bowl-kingsfield-event/
END:VEVENT
BEGIN:VEVENT
DTSTART;TZID=America/Chicago:20260212T094500
DTEND;TZID=America/Chicago:20260212T110000
DTSTAMP:20260424T131010
CREATED:20260130T142139Z
LAST-MODIFIED:20260130T142140Z
UID:10001918-1770889500-1770894000@www.beaconinterfaith.org
SUMMARY:Chris LaTondresse at LWV\, Edina
DESCRIPTION:Join the League of Women Voters (LWV) of Edina via Zoom for their February guest speaker presentation. Chris LaTondresse will speak on Permanent Supportive Housing and its importance in our communities. Nonmembers can attend this event but you must register to receive the Zoom meeting link.
URL:https://www.beaconinterfaith.org/event/chris-latondresse-at-lwv-edina/
END:VEVENT
BEGIN:VEVENT
DTSTART;TZID=America/Chicago:20260218T130000
DTEND;TZID=America/Chicago:20260218T140000
DTSTAMP:20260424T131010
CREATED:20251201T204706Z
LAST-MODIFIED:20260106T203500Z
UID:10001905-1771419600-1771423200@www.beaconinterfaith.org
SUMMARY:Building Tour: Nicollet Square
DESCRIPTION:Nicollet Square is supportive homes for young adults in Minneapolis.
URL:https://www.beaconinterfaith.org/event/building-tour-nicollet-square-2/
END:VEVENT
BEGIN:VEVENT
DTSTART;TZID=America/Chicago:20260223T100000
DTEND;TZID=America/Chicago:20260223T113000
DTSTAMP:20260424T131010
CREATED:20260113T221409Z
LAST-MODIFIED:20260126T205035Z
UID:10001915-1771840800-1771846200@www.beaconinterfaith.org
SUMMARY:Start with Home Rally
DESCRIPTION:
URL:https://www.beaconinterfaith.org/event/start-with-home-rally-2/
END:VEVENT
END:VCALENDAR