BEGIN:VCALENDAR
VERSION:2.0
PRODID:-//Beacon Interfaith - ECPv6.15.20//NONSGML v1.0//EN
CALSCALE:GREGORIAN
METHOD:PUBLISH
X-ORIGINAL-URL:https://www.beaconinterfaith.org
X-WR-CALDESC:Events for Beacon Interfaith
REFRESH-INTERVAL;VALUE=DURATION:PT1H
X-Robots-Tag:noindex
X-PUBLISHED-TTL:PT1H
BEGIN:VTIMEZONE
TZID:America/Chicago
BEGIN:DAYLIGHT
TZOFFSETFROM:-0600
TZOFFSETTO:-0500
TZNAME:CDT
DTSTART:20190310T080000
END:DAYLIGHT
BEGIN:STANDARD
TZOFFSETFROM:-0500
TZOFFSETTO:-0600
TZNAME:CST
DTSTART:20191103T070000
END:STANDARD
BEGIN:DAYLIGHT
TZOFFSETFROM:-0600
TZOFFSETTO:-0500
TZNAME:CDT
DTSTART:20200308T080000
END:DAYLIGHT
BEGIN:STANDARD
TZOFFSETFROM:-0500
TZOFFSETTO:-0600
TZNAME:CST
DTSTART:20201101T070000
END:STANDARD
BEGIN:DAYLIGHT
TZOFFSETFROM:-0600
TZOFFSETTO:-0500
TZNAME:CDT
DTSTART:20210314T080000
END:DAYLIGHT
BEGIN:STANDARD
TZOFFSETFROM:-0500
TZOFFSETTO:-0600
TZNAME:CST
DTSTART:20211107T070000
END:STANDARD
END:VTIMEZONE
BEGIN:VEVENT
DTSTART;TZID=America/Chicago:20200729T140000
DTEND;TZID=America/Chicago:20200729T143000
DTSTAMP:20260422T204243
CREATED:20200706T213933Z
LAST-MODIFIED:20200706T213933Z
UID:10001370-1596031200-1596033000@www.beaconinterfaith.org
SUMMARY:Beacon Now: What’s Next in St. Paul?
DESCRIPTION:Whether you’re brand new to Beacon or have been a supporter for years\, we invite you to attend a virtual “Beacon Now” session. In this session\, we’ll touch on the basics of Beacon’s work\, go in depth on one aspect of that work\, and discuss how we can make a difference for our neighbors now. Encampments of neighbors without a home are again growing. Racial disparities in housing continue to harm communities of color. This session will cover work we’ve done in St. Paul to provide home and support for adults who have experienced homelessness including those who lived in the 2018 encampment at the Wall of Forgotten Natives. You’ll also hear what’s next for homes to support neighbors in the Saintly City. \n 
URL:https://www.beaconinterfaith.org/event/beacon-now-072920/
END:VEVENT
BEGIN:VEVENT
DTSTART;TZID=America/Chicago:20200730T153000
DTEND;TZID=America/Chicago:20200730T163000
DTSTAMP:20260422T204243
CREATED:20200605T212358Z
LAST-MODIFIED:20200720T185350Z
UID:10001357-1596123000-1596126600@www.beaconinterfaith.org
SUMMARY:Kimball Court Expansion: St. Paul Zoning Hearing
DESCRIPTION:Join us for a virtual meeting of the St. Paul Zoning Committee\, where Beacon’s Building Developers will present our proposal to expand Kimball Court. We’re asking members of our St. Paul Beacon committee to witness and learn about our building process\, and to show the city our support for the supportive housing Kimball Court provides for individuals that have been long-term homeless. Join us to show St. Paul leaders our commitment that now\, more than ever\, we need homes for ALL. \nOnce you register\, we will share login information before the meeting. \nReach out to St. Paul organizer Elizabeth Tannen with any questions: (917) 435-8367 \n 
URL:https://www.beaconinterfaith.org/event/kcspzh/
CATEGORIES:Create New Homes,Public Action
END:VEVENT
END:VCALENDAR