BEGIN:VCALENDAR
VERSION:2.0
PRODID:-//Beacon Interfaith - ECPv6.15.20//NONSGML v1.0//EN
CALSCALE:GREGORIAN
METHOD:PUBLISH
X-WR-CALNAME:Beacon Interfaith
X-ORIGINAL-URL:https://www.beaconinterfaith.org
X-WR-CALDESC:Events for Beacon Interfaith
REFRESH-INTERVAL;VALUE=DURATION:PT1H
X-Robots-Tag:noindex
X-PUBLISHED-TTL:PT1H
BEGIN:VTIMEZONE
TZID:America/Chicago
BEGIN:DAYLIGHT
TZOFFSETFROM:-0600
TZOFFSETTO:-0500
TZNAME:CDT
DTSTART:20200308T080000
END:DAYLIGHT
BEGIN:STANDARD
TZOFFSETFROM:-0500
TZOFFSETTO:-0600
TZNAME:CST
DTSTART:20201101T070000
END:STANDARD
BEGIN:DAYLIGHT
TZOFFSETFROM:-0600
TZOFFSETTO:-0500
TZNAME:CDT
DTSTART:20210314T080000
END:DAYLIGHT
BEGIN:STANDARD
TZOFFSETFROM:-0500
TZOFFSETTO:-0600
TZNAME:CST
DTSTART:20211107T070000
END:STANDARD
BEGIN:DAYLIGHT
TZOFFSETFROM:-0600
TZOFFSETTO:-0500
TZNAME:CDT
DTSTART:20220313T080000
END:DAYLIGHT
BEGIN:STANDARD
TZOFFSETFROM:-0500
TZOFFSETTO:-0600
TZNAME:CST
DTSTART:20221106T070000
END:STANDARD
END:VTIMEZONE
BEGIN:VEVENT
DTSTART;TZID=America/Chicago:20210427T190000
DTEND;TZID=America/Chicago:20210427T200000
DTSTAMP:20260422T203553
CREATED:20210304T213827Z
LAST-MODIFIED:20210412T185256Z
UID:10001467-1619550000-1619553600@www.beaconinterfaith.org
SUMMARY:Funding Home: Hennepin Commissioner Conversation
DESCRIPTION:Often the most important things are the most difficult. Funding homes for people at the lowest incomes is one of those very important things. And because what we do takes all kinds of funding\, it is also one of the most difficult. \nHennepin County is a primary funding source for creating homes for families. In May\, the county commissioners will vote on which homes get built\, for whom and when. \nDespite our many conversations with county commissioners\, roadblocks to funding homes (this year) like Emerson Village and Vista 44 remain. Few commitments have been made. And although the county says they share our priority to support those at the lowest income\, the funding allocated to homes for those families hasn’t actually been prioritized. \nBe part of one or all of the three meetings with county commissioners in April as we invite them to join us in prioritizing funding homes for those that struggle the most finding a safe\, stable place to live. \nThis event will feature West Hennepin congregations and leaders\, and District 6 Commissioner Chris LaTondresse and District 7 Commissioner Kevin Anderson. \nFunding Home terms to know
URL:https://www.beaconinterfaith.org/event/funding-home-hennepin-commissioner-4-27-21/
CATEGORIES:Public Action
END:VEVENT
BEGIN:VEVENT
DTSTART;TZID=America/Chicago:20210428T140000
DTEND;TZID=America/Chicago:20210428T143000
DTSTAMP:20260422T203553
CREATED:20210315T195305Z
LAST-MODIFIED:20210315T195529Z
UID:10001472-1619618400-1619620200@www.beaconinterfaith.org
SUMMARY:Beacon Now: Racism & Housing - 4/28/21
DESCRIPTION:Whether you’re brand new to Beacon or have been a supporter for years\, we invite you to attend a virtual “Beacon Now” session. In this session\, we’ll touch on the basics of Beacon’s work\, go in depth on one aspect of that work\, and discuss how we can make a difference for Minnesotans now. Encampments of people without a home are again growing. Racial disparities in housing continue to harm communities of color. This season will start to explore the history of racism in housing that causes these disparities. \n 
URL:https://www.beaconinterfaith.org/event/beacon-now-4-28-21/
CATEGORIES:Point of Entry
END:VEVENT
BEGIN:VEVENT
DTSTART;TZID=America/Chicago:20210428T160000
DTEND;TZID=America/Chicago:20210428T164500
DTSTAMP:20260422T203553
CREATED:20210316T203110Z
LAST-MODIFIED:20210326T134119Z
UID:10001473-1619625600-1619628300@www.beaconinterfaith.org
SUMMARY:Planned Giving - Why it Matters
DESCRIPTION:Making a planned gift that will create affordable homes for generations to come is an incredibly meaningful decision that invests in your values and makes them part of your legacy. \nWe invite you to join us to learn what impact a planned gift of any shape or size can have in furthering Beacon’s vision that all people have a home. You will not be asked to commit to a planned gift in this meeting.  We offer this gathering as an opportunity to hear about the incredible good a planned gift can do through Beacon\, and to answer any questions you may have. \nThere are so many who are looking for a home they can afford. How will your legacy help them invest in theirs?  We invite you to this opportunity to find out more! \nThe link to join us virtually will be emailed to you when you register. \n 
URL:https://www.beaconinterfaith.org/event/planned-giving/
CATEGORIES:Fundraiser,Point of Entry
END:VEVENT
END:VCALENDAR