BEGIN:VCALENDAR
VERSION:2.0
PRODID:-//Beacon Interfaith - ECPv6.15.20//NONSGML v1.0//EN
CALSCALE:GREGORIAN
METHOD:PUBLISH
X-WR-CALNAME:Beacon Interfaith
X-ORIGINAL-URL:https://www.beaconinterfaith.org
X-WR-CALDESC:Events for Beacon Interfaith
REFRESH-INTERVAL;VALUE=DURATION:PT1H
X-Robots-Tag:noindex
X-PUBLISHED-TTL:PT1H
BEGIN:VTIMEZONE
TZID:America/Chicago
BEGIN:DAYLIGHT
TZOFFSETFROM:-0600
TZOFFSETTO:-0500
TZNAME:CDT
DTSTART:20200308T080000
END:DAYLIGHT
BEGIN:STANDARD
TZOFFSETFROM:-0500
TZOFFSETTO:-0600
TZNAME:CST
DTSTART:20201101T070000
END:STANDARD
BEGIN:DAYLIGHT
TZOFFSETFROM:-0600
TZOFFSETTO:-0500
TZNAME:CDT
DTSTART:20210314T080000
END:DAYLIGHT
BEGIN:STANDARD
TZOFFSETFROM:-0500
TZOFFSETTO:-0600
TZNAME:CST
DTSTART:20211107T070000
END:STANDARD
BEGIN:DAYLIGHT
TZOFFSETFROM:-0600
TZOFFSETTO:-0500
TZNAME:CDT
DTSTART:20220313T080000
END:DAYLIGHT
BEGIN:STANDARD
TZOFFSETFROM:-0500
TZOFFSETTO:-0600
TZNAME:CST
DTSTART:20221106T070000
END:STANDARD
END:VTIMEZONE
BEGIN:VEVENT
DTSTART;TZID=America/Chicago:20210524T180000
DTEND;TZID=America/Chicago:20210524T190000
DTSTAMP:20260422T204155
CREATED:20210421T191927Z
LAST-MODIFIED:20210421T191927Z
UID:10001478-1621879200-1621882800@www.beaconinterfaith.org
SUMMARY:Bring it Home\, MN: Claiming Our Wins + What Comes Next
DESCRIPTION:Join Beacon’s congregational leaders and organizers to celebrate all we’ve accomplished to advance Bring it Home\, MN this last year. We have done so much and need to reflect on our action and name what we learned. We also are excited to look ahead at how our collaborative will work together to continue our momentum and build the power we need to win! \nPlease register to receive the link for our virtual meeting. \n 
URL:https://www.beaconinterfaith.org/event/bring-it-home-0524/
CATEGORIES:Policy,Public Action
END:VEVENT
BEGIN:VEVENT
DTSTART;TZID=America/Chicago:20210526T140000
DTEND;TZID=America/Chicago:20210526T143000
DTSTAMP:20260422T204155
CREATED:20210430T203901Z
LAST-MODIFIED:20210514T160410Z
UID:10001483-1622037600-1622039400@www.beaconinterfaith.org
SUMMARY:Beacon Now: Racism & Housing - 5/26/21
DESCRIPTION:Whether you’re brand new to Beacon or have been a supporter for years\, we invite you to attend a virtual “Beacon Now” session. In this session\, we’ll touch on the basics of Beacon’s work\, go in depth on one aspect of that work\, and discuss how we can make a difference for Minnesotans now. Encampments of people without a home are again growing. Racial disparities in housing continue to harm communities of color. This season will start to explore the history of racism in housing that causes these disparities. \n 
URL:https://www.beaconinterfaith.org/event/beacon-now-5-26-21/
CATEGORIES:Point of Entry
END:VEVENT
BEGIN:VEVENT
DTSTART;TZID=America/Chicago:20210527T090000
DTEND;TZID=America/Chicago:20210527T101500
DTSTAMP:20260422T204155
CREATED:20210120T184248Z
LAST-MODIFIED:20210120T184248Z
UID:10001447-1622106000-1622110500@www.beaconinterfaith.org
SUMMARY:Clergy & Religious Leaders Gathering - 05/27/21
DESCRIPTION:Clergy and staff leaders of Beacon congregations are invited to gather monthly for reflection\, discussion\, and support. Hosted by Beacon organizers\, we’ll explore topics related to congregations’ work on shelter\, housing and policy and strengthen our collaborative for a prophetic presence in the public arena. Drop in for one\, or attend them all! Meetings will be virtual.
URL:https://www.beaconinterfaith.org/event/clergy-religious-leaders-gathering-0521/
CATEGORIES:Congregation Leadership
END:VEVENT
END:VCALENDAR