BEGIN:VCALENDAR
VERSION:2.0
PRODID:-//Beacon Interfaith - ECPv6.15.20//NONSGML v1.0//EN
CALSCALE:GREGORIAN
METHOD:PUBLISH
X-WR-CALNAME:Beacon Interfaith
X-ORIGINAL-URL:https://www.beaconinterfaith.org
X-WR-CALDESC:Events for Beacon Interfaith
REFRESH-INTERVAL;VALUE=DURATION:PT1H
X-Robots-Tag:noindex
X-PUBLISHED-TTL:PT1H
BEGIN:VTIMEZONE
TZID:America/Chicago
BEGIN:DAYLIGHT
TZOFFSETFROM:-0600
TZOFFSETTO:-0500
TZNAME:CDT
DTSTART:20200308T080000
END:DAYLIGHT
BEGIN:STANDARD
TZOFFSETFROM:-0500
TZOFFSETTO:-0600
TZNAME:CST
DTSTART:20201101T070000
END:STANDARD
BEGIN:DAYLIGHT
TZOFFSETFROM:-0600
TZOFFSETTO:-0500
TZNAME:CDT
DTSTART:20210314T080000
END:DAYLIGHT
BEGIN:STANDARD
TZOFFSETFROM:-0500
TZOFFSETTO:-0600
TZNAME:CST
DTSTART:20211107T070000
END:STANDARD
BEGIN:DAYLIGHT
TZOFFSETFROM:-0600
TZOFFSETTO:-0500
TZNAME:CDT
DTSTART:20220313T080000
END:DAYLIGHT
BEGIN:STANDARD
TZOFFSETFROM:-0500
TZOFFSETTO:-0600
TZNAME:CST
DTSTART:20221106T070000
END:STANDARD
END:VTIMEZONE
BEGIN:VEVENT
DTSTART;TZID=America/Chicago:20210629T170000
DTEND;TZID=America/Chicago:20210629T183000
DTSTAMP:20260422T203554
CREATED:20210524T202648Z
LAST-MODIFIED:20210524T202648Z
UID:10001488-1624986000-1624991400@www.beaconinterfaith.org
SUMMARY:Families Moving Forward Town Hall - 6/29/21
DESCRIPTION:Our staff will give you a glimpse of how our program is operating and of the impact it’s having in these unusual times. We’ll talk about the permanent changes that have taken place this last year with the closing of the Hennepin program center. And\, we’ll together anticipate what it will be like to come together once again. \n 
URL:https://www.beaconinterfaith.org/event/fmf-town-hall-6-29-21/
CATEGORIES:Congregation Leadership
END:VEVENT
BEGIN:VEVENT
DTSTART;TZID=America/Chicago:20210630T140000
DTEND;TZID=America/Chicago:20210630T143000
DTSTAMP:20260422T203554
CREATED:20210527T200958Z
LAST-MODIFIED:20210527T200958Z
UID:10001493-1625061600-1625063400@www.beaconinterfaith.org
SUMMARY:Beacon Now: Year in Review - 6/30/21
DESCRIPTION:Whether you’re brand new to Beacon or have been a supporter for years\, we invite you to attend a virtual “Beacon Now” session. In this session\, we’ll touch on the basics of Beacon’s work\, go in depth on one aspect of that work\, and discuss how we can make a difference for Minnesotans now. Encampments of people without a home are again growing. Racial disparities in housing continue to harm communities of color. This session will review the last year of Beacon’s work toward the vision that all people have a home. \n 
URL:https://www.beaconinterfaith.org/event/beacon-now-6-30-21/
CATEGORIES:Point of Entry
END:VEVENT
BEGIN:VEVENT
DTSTART;TZID=America/Chicago:20210701T083000
DTEND;TZID=America/Chicago:20210701T090000
DTSTAMP:20260422T203554
CREATED:20210518T162542Z
LAST-MODIFIED:20210525T160435Z
UID:10001485-1625128200-1625130000@www.beaconinterfaith.org
SUMMARY:Rent is Due: Day of Action - 7/1/21
DESCRIPTION:Our vision is that all people have a home. The pandemic and economic crisis are building into an eviction crisis\, which could add to the already too large number of people experiencing unsheltered homelessness. We cannot let this happen\, and home is the solution. \nWe need Bring It Home\, MN\, a rent subsidy program that will allow all low-income Minnesotans the security and reassurance of home. \nOn Thursday\, July 1\, join us at 8:30 a.m. for a thirty-minute update meeting\, where we will learn more about the growing crisis\, and reflect on how to take action together. \nPlease register below to let us know you will participate and to receive further instructions on how to access the meeting. \n 
URL:https://www.beaconinterfaith.org/event/day-of-action-7-1-21/
CATEGORIES:Policy,Public Action
END:VEVENT
END:VCALENDAR