BEGIN:VCALENDAR
VERSION:2.0
PRODID:-//Beacon Interfaith - ECPv6.15.20//NONSGML v1.0//EN
CALSCALE:GREGORIAN
METHOD:PUBLISH
X-WR-CALNAME:Beacon Interfaith
X-ORIGINAL-URL:https://www.beaconinterfaith.org
X-WR-CALDESC:Events for Beacon Interfaith
REFRESH-INTERVAL;VALUE=DURATION:PT1H
X-Robots-Tag:noindex
X-PUBLISHED-TTL:PT1H
BEGIN:VTIMEZONE
TZID:America/Chicago
BEGIN:DAYLIGHT
TZOFFSETFROM:-0600
TZOFFSETTO:-0500
TZNAME:CDT
DTSTART:20240310T080000
END:DAYLIGHT
BEGIN:STANDARD
TZOFFSETFROM:-0500
TZOFFSETTO:-0600
TZNAME:CST
DTSTART:20241103T070000
END:STANDARD
BEGIN:DAYLIGHT
TZOFFSETFROM:-0600
TZOFFSETTO:-0500
TZNAME:CDT
DTSTART:20250309T080000
END:DAYLIGHT
BEGIN:STANDARD
TZOFFSETFROM:-0500
TZOFFSETTO:-0600
TZNAME:CST
DTSTART:20251102T070000
END:STANDARD
BEGIN:DAYLIGHT
TZOFFSETFROM:-0600
TZOFFSETTO:-0500
TZNAME:CDT
DTSTART:20260308T080000
END:DAYLIGHT
BEGIN:STANDARD
TZOFFSETFROM:-0500
TZOFFSETTO:-0600
TZNAME:CST
DTSTART:20261101T070000
END:STANDARD
END:VTIMEZONE
BEGIN:VEVENT
DTSTART;TZID=America/Chicago:20251217T130000
DTEND;TZID=America/Chicago:20251217T140000
DTSTAMP:20260424T172717
CREATED:20250804T160403Z
LAST-MODIFIED:20251204T172413Z
UID:10001885-1765976400-1765980000@www.beaconinterfaith.org
SUMMARY:Building Tour: Cranberry Ridge
DESCRIPTION:Cranberry Ridge in Plymouth is 45 1-\, 2-\, 3-\, and 4-bedroom apartment homes with supportive services for families.
URL:https://www.beaconinterfaith.org/event/building-tour-cranberry-ridge/
END:VEVENT
BEGIN:VEVENT
DTSTART;TZID=America/Chicago:20251218T164500
DTEND;TZID=America/Chicago:20251218T200000
DTSTAMP:20260424T172717
CREATED:20251203T171820Z
LAST-MODIFIED:20251203T172358Z
UID:10001906-1766076300-1766088000@www.beaconinterfaith.org
SUMMARY:Homeless Memorial March & Service
DESCRIPTION:Plymouth Congregational Church\, 1900 Nicollet Ave. Minneapolis
URL:https://www.beaconinterfaith.org/event/homeless-memorial-march-service/
END:VEVENT
END:VCALENDAR