BEGIN:VCALENDAR
VERSION:2.0
PRODID:-//Beacon Interfaith - ECPv6.15.20//NONSGML v1.0//EN
CALSCALE:GREGORIAN
METHOD:PUBLISH
X-WR-CALNAME:Beacon Interfaith
X-ORIGINAL-URL:https://www.beaconinterfaith.org
X-WR-CALDESC:Events for Beacon Interfaith
REFRESH-INTERVAL;VALUE=DURATION:PT1H
X-Robots-Tag:noindex
X-PUBLISHED-TTL:PT1H
BEGIN:VTIMEZONE
TZID:America/Chicago
BEGIN:DAYLIGHT
TZOFFSETFROM:-0600
TZOFFSETTO:-0500
TZNAME:CDT
DTSTART:20220313T080000
END:DAYLIGHT
BEGIN:STANDARD
TZOFFSETFROM:-0500
TZOFFSETTO:-0600
TZNAME:CST
DTSTART:20221106T070000
END:STANDARD
BEGIN:DAYLIGHT
TZOFFSETFROM:-0600
TZOFFSETTO:-0500
TZNAME:CDT
DTSTART:20230312T080000
END:DAYLIGHT
BEGIN:STANDARD
TZOFFSETFROM:-0500
TZOFFSETTO:-0600
TZNAME:CST
DTSTART:20231105T070000
END:STANDARD
BEGIN:DAYLIGHT
TZOFFSETFROM:-0600
TZOFFSETTO:-0500
TZNAME:CDT
DTSTART:20240310T080000
END:DAYLIGHT
BEGIN:STANDARD
TZOFFSETFROM:-0500
TZOFFSETTO:-0600
TZNAME:CST
DTSTART:20241103T070000
END:STANDARD
BEGIN:DAYLIGHT
TZOFFSETFROM:-0600
TZOFFSETTO:-0500
TZNAME:CDT
DTSTART:20250309T080000
END:DAYLIGHT
BEGIN:STANDARD
TZOFFSETFROM:-0500
TZOFFSETTO:-0600
TZNAME:CST
DTSTART:20251102T070000
END:STANDARD
END:VTIMEZONE
BEGIN:VEVENT
DTSTART;TZID=America/Chicago:20240317T143000
DTEND;TZID=America/Chicago:20240317T163000
DTSTAMP:20260424T160937
CREATED:20240110T171640Z
LAST-MODIFIED:20240110T171640Z
UID:10001802-1710685800-1710693000@www.beaconinterfaith.org
SUMMARY:How to Build Your Beacon Leadership Team - 3/17/24
DESCRIPTION:Beacon Leadership Teams (or BLTs\, as we like to call them) are the necessary liaison between the congregation and the collaborative. This workshop focuses on who to look for in creating your team\, how to develop leaders and engage your congregation\, and how to develop an organizing plan that connects your faith traditions to the work of the collaborative in housing and policy.
URL:https://www.beaconinterfaith.org/event/how-to-build-your-beacon-leadership-team-3-17-24/
LOCATION:Virtual
END:VEVENT
BEGIN:VEVENT
DTSTART;TZID=America/Chicago:20240212T183000
DTEND;TZID=America/Chicago:20240212T203000
DTSTAMP:20260424T160937
CREATED:20240110T170922Z
LAST-MODIFIED:20240110T170922Z
UID:10001801-1707762600-1707769800@www.beaconinterfaith.org
SUMMARY:Building Home: What It Takes - 2/12/24
DESCRIPTION:What does it take for Beacon to develop new affordable homes and change public policies around housing? This is your chance to find out! \nExplore why homelessness exists\, understand the “buckets” of funding needed to create affordable homes\, discover the nuances of the housing development cycle\, and find out why we can’t simply build our way out of homelessness. \nMost of all\, find out how you can help ensure all Minnesotans have a safe\, affordable place to call home!
URL:https://www.beaconinterfaith.org/event/building-home-what-it-takes-2-12-24/
LOCATION:Virtual
END:VEVENT
BEGIN:VEVENT
DTSTART;TZID=America/Chicago:20240106T090000
DTEND;TZID=America/Chicago:20240106T143000
DTSTAMP:20260424T160937
CREATED:20231114T181706Z
LAST-MODIFIED:20240104T132040Z
UID:10001777-1704531600-1704551400@www.beaconinterfaith.org
SUMMARY:Unpacking Race and Housing - 1/6/24
DESCRIPTION:This workshop provides a foundational framework for understanding and being able to take action on the racial disparities in housing that exist due to the historical legacy of racism in our country and state. At Beacon\, we believe that to further racial equity we first need to acknowledge the fact that Minnesota has some of the widest racial disparities in the nation – especially in housing. Secondly\, to close the disparities we must learn about and from our history and how it shaped who we are and what we need to do today. Participants will leave this workshop better equipped to lead their congregation and the collaborative in campaigns that address this legacy of racism in housing and homelessness. \n**Registration for this event is full. If you’d like to learn more about future offerings of Unpacking Race and Housing and other Beacon trainings\, please email Emily at egoldthwaite@beaconinterfaith.org**
URL:https://www.beaconinterfaith.org/event/unpacking-race-and-housing-1-6-24/
LOCATION:Lake Harriet United Methodist Church\, 4901 Chowen Ave S\, Minneapolis\, 55410\, United States
CATEGORIES:Beacon Academy
END:VEVENT
BEGIN:VEVENT
DTSTART;TZID=America/Chicago:20231030T183000
DTEND;TZID=America/Chicago:20231030T203000
DTSTAMP:20260424T160937
CREATED:20231005T191529Z
LAST-MODIFIED:20231005T191529Z
UID:10001757-1698690600-1698697800@www.beaconinterfaith.org
SUMMARY:Beacon Leadership Team (BLT) Training\, October 30\, 2023
DESCRIPTION:Beacon Leadership Teams\, or BLTs as we call them\, act as liaisons between congregations and Beacon Interfaith.  \nBLTs play a crucial role in generating support for affordable housing. They amplify Beacon’s mission to ensure all people have a home and help communities put faith into action.  \nThis workshop will help you learn how to:\n– Identify members for a BLT\n– Develop leaders and engage your congregation\n– Craft an organizing plan that connects your faith traditions to housing advocacy \nAre you ready to amplify the power of your community\, live out your faith values\, and take meaningful action toward expanding access to affordable housing?! Then sign up today for this virtual event.
URL:https://www.beaconinterfaith.org/event/beacon-leadership-team-training-october-30-2023/
CATEGORIES:Beacon Academy,Public Action
END:VEVENT
BEGIN:VEVENT
DTSTART;TZID=America/Chicago:20231113T183000
DTEND;TZID=America/Chicago:20231113T203000
DTSTAMP:20260424T160937
CREATED:20231005T185638Z
LAST-MODIFIED:20231113T162754Z
UID:10001756-1699900200-1699907400@www.beaconinterfaith.org
SUMMARY:Building Home Training\, TBD
DESCRIPTION:ATTENTION: This event will NO LONG TAKE PLACE on November 13 as originally planned. We are in the process of rescheduling the event!\nFor more information\, please contact Fritz Bimberg at fbimberg@beaconinterfaith.org. \nWhat does it take for Beacon to develop new affordable homes and change public policies around housing? This is your chance to find out! \nExplore why homelessness exists\, understand the buckets of funding needed to create affordable homes\, discover the nuances of the housing development cycle\, and find out why we can’t simply build our way out of homelessness. \nMost of all\, find out how YOU can help ensure all Minnesotans have a safe\, affordable place to call home! \nThis is a virtual event!
URL:https://www.beaconinterfaith.org/event/building-home-training-november-13/
CATEGORIES:Beacon Academy,Fundraiser
END:VEVENT
BEGIN:VEVENT
DTSTART;TZID=America/Chicago:20231017T190000
DTEND;TZID=America/Chicago:20231017T194500
DTSTAMP:20260424T160937
CREATED:20231004T214251Z
LAST-MODIFIED:20231004T214251Z
UID:10001755-1697569200-1697571900@www.beaconinterfaith.org
SUMMARY:Learn about the Aster Commons affordable housing development
DESCRIPTION:Aster Commons will provide about 40 apartments at a great location in Richfield along with services focused on young neurodivergent adults at risk of homelessness. We are now at the stage of obtaining the city’s approval for land use. So\, whether you live in Richfield or a nearby community\, showing up at this land use event will set a positive tone\, encourage city officials to vote in favor of affordable housing\, and ensure this project can take another step toward breaking ground. \nJoin us October 17 for a virtual update on Aster Commons\, and learn about what to expect during land use meetings.
URL:https://www.beaconinterfaith.org/event/learn-about-the-aster-commons-october-17-2023/
CATEGORIES:Create New Homes,Public Action
END:VEVENT
BEGIN:VEVENT
DTSTART;TZID=America/Chicago:20230921T160000
DTEND;TZID=America/Chicago:20230921T173000
DTSTAMP:20260424T160937
CREATED:20230901T193226Z
LAST-MODIFIED:20230906T122004Z
UID:10001749-1695312000-1695317400@www.beaconinterfaith.org
SUMMARY:Emerson Village Groundbreaking
DESCRIPTION:Celebrate a moment years in the making! Join Beacon and our partners at the groundbreaking for Emerson Village family supportive housing located in North Minneapolis. \nWe will celebrate progress on creating 40 new apartment homes for families that\, when open\, will offer support services for each member of the family and provide what they need to thrive together. \nWe will also mark a moment of transition for the Emerson Village site\, honoring the Families Moving Forward program center\, whose site is being adapted to create homes that families can make their own. \nSpecial guests include Minneapolis Mayor Jacob Frey\, Council Member Jeremiah Ellison\, and many others who have helped make Emerson Village a reality. \n\n \n 
URL:https://www.beaconinterfaith.org/event/emerson-village-groundbreaking-9-21-2023/
LOCATION:Church of the Ascension\, 1723 N. Bryant Ave\, Minneapolis\, MN\, 55411\, United States
END:VEVENT
BEGIN:VEVENT
DTSTART;TZID=America/Chicago:20231128T190000
DTEND;TZID=America/Chicago:20231128T210000
DTSTAMP:20260424T160937
CREATED:20230824T214249Z
LAST-MODIFIED:20231024T161550Z
UID:10001745-1701198000-1701205200@www.beaconinterfaith.org
SUMMARY:Richfield City Council Meeting\, November 28\, 2023
DESCRIPTION:The Richfield City Council will be considering land use approvals for Aster Commons\, and we need to show up strong to demonstrate the depth of support for these new homes! Wear blue to show you want Aster Commons to move forward! \nAster Commons would be about 40 new homes focused on autistic and other neurodivergent young adults who have experienced homelessness. \nClick here to begin your registration:
URL:https://www.beaconinterfaith.org/event/richfield-city-council-meeting-11-28-2023/
LOCATION:Richfield Municipal Center\, 6700 Portland Ave\, Richfield\, 55423\, United States
CATEGORIES:Public Action
END:VEVENT
END:VCALENDAR