BEGIN:VCALENDAR
VERSION:2.0
PRODID:-//Beacon Interfaith - ECPv6.15.20//NONSGML v1.0//EN
CALSCALE:GREGORIAN
METHOD:PUBLISH
X-WR-CALNAME:Beacon Interfaith
X-ORIGINAL-URL:https://www.beaconinterfaith.org
X-WR-CALDESC:Events for Beacon Interfaith
REFRESH-INTERVAL;VALUE=DURATION:PT1H
X-Robots-Tag:noindex
X-PUBLISHED-TTL:PT1H
BEGIN:VTIMEZONE
TZID:America/Chicago
BEGIN:DAYLIGHT
TZOFFSETFROM:-0600
TZOFFSETTO:-0500
TZNAME:CDT
DTSTART:20210314T080000
END:DAYLIGHT
BEGIN:STANDARD
TZOFFSETFROM:-0500
TZOFFSETTO:-0600
TZNAME:CST
DTSTART:20211107T070000
END:STANDARD
BEGIN:DAYLIGHT
TZOFFSETFROM:-0600
TZOFFSETTO:-0500
TZNAME:CDT
DTSTART:20220313T080000
END:DAYLIGHT
BEGIN:STANDARD
TZOFFSETFROM:-0500
TZOFFSETTO:-0600
TZNAME:CST
DTSTART:20221106T070000
END:STANDARD
BEGIN:DAYLIGHT
TZOFFSETFROM:-0600
TZOFFSETTO:-0500
TZNAME:CDT
DTSTART:20230312T080000
END:DAYLIGHT
BEGIN:STANDARD
TZOFFSETFROM:-0500
TZOFFSETTO:-0600
TZNAME:CST
DTSTART:20231105T070000
END:STANDARD
END:VTIMEZONE
BEGIN:VEVENT
DTSTART;TZID=America/Chicago:20221204T150000
DTEND;TZID=America/Chicago:20221204T170000
DTSTAMP:20260424T144659
CREATED:20221116T215425Z
LAST-MODIFIED:20221121T170847Z
UID:10001644-1670166000-1670173200@www.beaconinterfaith.org
SUMMARY:Power Tools: Winter 2022
DESCRIPTION:To create the change needed to ensure all people have a home\, we need skilled leaders able to build meaningful relationships with decision makers\, hold power and act effectively in the public arena. This workshop focuses on all of these skills and more! \nTo cover the cost of material\, we are asking for a onetime $35 donation. \nThis is a four-part series of training. This is part one. \nPlease only register once. You do not need to separately register for each session. \nSun\, December 4th\, 3:00 – 8:00\, In person\, Minnesota Valley Unitarian Universalist Fellowship\nMon\, December 5th\, 5:00 – 8:00\, Virtual\nSun\, December 11th\, 3:00 – 8:00\, Virtual\nMon\, December 12th\, 5:00 – 8:00\, Virtual \nThis first portion of the training will be in person at Minnesota Valley Unitarian Universalist Fellowship.
URL:https://www.beaconinterfaith.org/event/power-tools-winter-2022-3/
LOCATION:Minnesota Valley Unitarian Universalist Fellowship\, 10715 Zenith Ave S\, Bloomington\, MN\, 55431\, United States
END:VEVENT
END:VCALENDAR