BEGIN:VCALENDAR
VERSION:2.0
PRODID:-//Beacon Interfaith - ECPv6.15.20//NONSGML v1.0//EN
CALSCALE:GREGORIAN
METHOD:PUBLISH
X-WR-CALNAME:Beacon Interfaith
X-ORIGINAL-URL:https://www.beaconinterfaith.org
X-WR-CALDESC:Events for Beacon Interfaith
REFRESH-INTERVAL;VALUE=DURATION:PT1H
X-Robots-Tag:noindex
X-PUBLISHED-TTL:PT1H
BEGIN:VTIMEZONE
TZID:America/Chicago
BEGIN:DAYLIGHT
TZOFFSETFROM:-0600
TZOFFSETTO:-0500
TZNAME:CDT
DTSTART:20220313T080000
END:DAYLIGHT
BEGIN:STANDARD
TZOFFSETFROM:-0500
TZOFFSETTO:-0600
TZNAME:CST
DTSTART:20221106T070000
END:STANDARD
BEGIN:DAYLIGHT
TZOFFSETFROM:-0600
TZOFFSETTO:-0500
TZNAME:CDT
DTSTART:20230312T080000
END:DAYLIGHT
BEGIN:STANDARD
TZOFFSETFROM:-0500
TZOFFSETTO:-0600
TZNAME:CST
DTSTART:20231105T070000
END:STANDARD
BEGIN:DAYLIGHT
TZOFFSETFROM:-0600
TZOFFSETTO:-0500
TZNAME:CDT
DTSTART:20240310T080000
END:DAYLIGHT
BEGIN:STANDARD
TZOFFSETFROM:-0500
TZOFFSETTO:-0600
TZNAME:CST
DTSTART:20241103T070000
END:STANDARD
END:VTIMEZONE
BEGIN:VEVENT
DTSTART;TZID=America/Chicago:20230316T123000
DTEND;TZID=America/Chicago:20230316T143000
DTSTAMP:20260424T135508
CREATED:20230306T194718Z
LAST-MODIFIED:20230308T174714Z
UID:10001686-1678969800-1678977000@www.beaconinterfaith.org
SUMMARY:Bring it Home\, MN Senate Hearing
DESCRIPTION:The Bring it Home bill will be heard in the Senate at 12:30 p.m. by the Housing and Homelessness Prevention Committee in 1150 Minnesota State Senate Building\, 95 University Ave. W\, St. Paul\, MN 55103. \nBeacon and partners are preparing testimony. It would be great to have a group of supporters IN PERSON and a group online. Please register and indicate where you will show up.
URL:https://www.beaconinterfaith.org/event/march-16-bring-it-home-mn-senate-hearing/
LOCATION:1150 Minnesota Senate Building\, 95 University Ave. W\, Saint Paul\, 55103
CATEGORIES:Policy
END:VEVENT
END:VCALENDAR