BEGIN:VCALENDAR
VERSION:2.0
PRODID:-//Beacon Interfaith - ECPv6.15.20//NONSGML v1.0//EN
CALSCALE:GREGORIAN
METHOD:PUBLISH
X-WR-CALNAME:Beacon Interfaith
X-ORIGINAL-URL:https://www.beaconinterfaith.org
X-WR-CALDESC:Events for Beacon Interfaith
REFRESH-INTERVAL;VALUE=DURATION:PT1H
X-Robots-Tag:noindex
X-PUBLISHED-TTL:PT1H
BEGIN:VTIMEZONE
TZID:UTC
BEGIN:STANDARD
TZOFFSETFROM:+0000
TZOFFSETTO:+0000
TZNAME:UTC
DTSTART:20180101T000000
END:STANDARD
END:VTIMEZONE
BEGIN:VEVENT
DTSTART;TZID=UTC:20190926T190000
DTEND;TZID=UTC:20190926T203000
DTSTAMP:20260424T165244
CREATED:20190812T194945Z
LAST-MODIFIED:20190813T012137Z
UID:10001314-1569524400-1569529800@www.beaconinterfaith.org
SUMMARY:Congregation Convening: September 2019
DESCRIPTION:Featuring Minnesota Housing Commissioner Jennifer Ho\, we’ll be celebrating the wide array of work Beacon is engaged in\, reflecting on the landscape of housing in our communities\, and looking to the future together. Join with hundreds of others from Beacon collaborating congregations for important updates and commitments to action. Invite members of your congregation to come with you! \n 
URL:https://www.beaconinterfaith.org/event/congregation-convening-september-2019/
LOCATION:Colonial Church\, 6200 Colonial Way\, Edina\, MN\, 55436\, United States
CATEGORIES:Congregation Convening,Public Action
END:VEVENT
END:VCALENDAR