BEGIN:VCALENDAR
VERSION:2.0
PRODID:-//Beacon Interfaith - ECPv6.15.20//NONSGML v1.0//EN
CALSCALE:GREGORIAN
METHOD:PUBLISH
X-WR-CALNAME:Beacon Interfaith
X-ORIGINAL-URL:https://www.beaconinterfaith.org
X-WR-CALDESC:Events for Beacon Interfaith
REFRESH-INTERVAL;VALUE=DURATION:PT1H
X-Robots-Tag:noindex
X-PUBLISHED-TTL:PT1H
BEGIN:VTIMEZONE
TZID:America/Chicago
BEGIN:DAYLIGHT
TZOFFSETFROM:-0600
TZOFFSETTO:-0500
TZNAME:CDT
DTSTART:20230312T080000
END:DAYLIGHT
BEGIN:STANDARD
TZOFFSETFROM:-0500
TZOFFSETTO:-0600
TZNAME:CST
DTSTART:20231105T070000
END:STANDARD
BEGIN:DAYLIGHT
TZOFFSETFROM:-0600
TZOFFSETTO:-0500
TZNAME:CDT
DTSTART:20240310T080000
END:DAYLIGHT
BEGIN:STANDARD
TZOFFSETFROM:-0500
TZOFFSETTO:-0600
TZNAME:CST
DTSTART:20241103T070000
END:STANDARD
BEGIN:DAYLIGHT
TZOFFSETFROM:-0600
TZOFFSETTO:-0500
TZNAME:CDT
DTSTART:20250309T080000
END:DAYLIGHT
BEGIN:STANDARD
TZOFFSETFROM:-0500
TZOFFSETTO:-0600
TZNAME:CST
DTSTART:20251102T070000
END:STANDARD
END:VTIMEZONE
BEGIN:VEVENT
DTSTART;TZID=America/Chicago:20240106T090000
DTEND;TZID=America/Chicago:20240106T143000
DTSTAMP:20260424T175630
CREATED:20231114T181706Z
LAST-MODIFIED:20240104T132040Z
UID:10001777-1704531600-1704551400@www.beaconinterfaith.org
SUMMARY:Unpacking Race and Housing - 1/6/24
DESCRIPTION:This workshop provides a foundational framework for understanding and being able to take action on the racial disparities in housing that exist due to the historical legacy of racism in our country and state. At Beacon\, we believe that to further racial equity we first need to acknowledge the fact that Minnesota has some of the widest racial disparities in the nation – especially in housing. Secondly\, to close the disparities we must learn about and from our history and how it shaped who we are and what we need to do today. Participants will leave this workshop better equipped to lead their congregation and the collaborative in campaigns that address this legacy of racism in housing and homelessness. \n**Registration for this event is full. If you’d like to learn more about future offerings of Unpacking Race and Housing and other Beacon trainings\, please email Emily at egoldthwaite@beaconinterfaith.org**
URL:https://www.beaconinterfaith.org/event/unpacking-race-and-housing-1-6-24/
LOCATION:Lake Harriet United Methodist Church\, 4901 Chowen Ave S\, Minneapolis\, 55410\, United States
CATEGORIES:Beacon Academy
END:VEVENT
END:VCALENDAR