BEGIN:VCALENDAR
VERSION:2.0
PRODID:-//Beacon Interfaith - ECPv6.15.20//NONSGML v1.0//EN
CALSCALE:GREGORIAN
METHOD:PUBLISH
X-ORIGINAL-URL:https://www.beaconinterfaith.org
X-WR-CALDESC:Events for Beacon Interfaith
REFRESH-INTERVAL;VALUE=DURATION:PT1H
X-Robots-Tag:noindex
X-PUBLISHED-TTL:PT1H
BEGIN:VTIMEZONE
TZID:America/Chicago
BEGIN:DAYLIGHT
TZOFFSETFROM:-0600
TZOFFSETTO:-0500
TZNAME:CDT
DTSTART:20220313T080000
END:DAYLIGHT
BEGIN:STANDARD
TZOFFSETFROM:-0500
TZOFFSETTO:-0600
TZNAME:CST
DTSTART:20221106T070000
END:STANDARD
BEGIN:DAYLIGHT
TZOFFSETFROM:-0600
TZOFFSETTO:-0500
TZNAME:CDT
DTSTART:20230312T080000
END:DAYLIGHT
BEGIN:STANDARD
TZOFFSETFROM:-0500
TZOFFSETTO:-0600
TZNAME:CST
DTSTART:20231105T070000
END:STANDARD
BEGIN:DAYLIGHT
TZOFFSETFROM:-0600
TZOFFSETTO:-0500
TZNAME:CDT
DTSTART:20240310T080000
END:DAYLIGHT
BEGIN:STANDARD
TZOFFSETFROM:-0500
TZOFFSETTO:-0600
TZNAME:CST
DTSTART:20241103T070000
END:STANDARD
END:VTIMEZONE
BEGIN:VEVENT
DTSTART;TZID=America/Chicago:20231002T153000
DTEND;TZID=America/Chicago:20231002T173000
DTSTAMP:20260424T145741
CREATED:20230926T142542Z
LAST-MODIFIED:20230926T142925Z
UID:10001750-1696260600-1696267800@www.beaconinterfaith.org
SUMMARY:Met Council CDC Meeting: Vote on HRA Annual Plan
DESCRIPTION:Please join us at the Met Council’s Community Development Committee Meeting. We will be there to witness their vote on the Metro Housing Redevelopment Authorities Annual Plan. We have been advocating all year to make changes to the annual plan and only achieved one small change. Our hope for an annual\, consistent flow of Project Based Vouchers will not be in the plan\, but we are successfully raising the issue and putting pressure on council members. And we intend to keep that pressure up until the Met Council decides to automatically allocate project based vouchers each year for the development of new affordable housing in the suburbs.  \nJoin us to witness to the Met Council members we aren’t giving up and not going away. Please wear blue or your Beacon T-Shirt.
URL:https://www.beaconinterfaith.org/event/met-council-cdc-vote-10-2-2023/
LOCATION:Met Council Building\, 390 Robert St. N.\, St. Paul\, MN\, 55101\, United States
CATEGORIES:Policy
ORGANIZER;CN="Ben Helvick Anderson":MAILTO:bhelvickanderson@beaconinterfaith.org
END:VEVENT
BEGIN:VEVENT
DTSTART;TZID=America/Chicago:20230905T153000
DTEND;TZID=America/Chicago:20230905T173000
DTSTAMP:20260424T145741
CREATED:20230824T215923Z
LAST-MODIFIED:20230825T145610Z
UID:10001747-1693927800-1693935000@www.beaconinterfaith.org
SUMMARY:Met Council Community Development Committee Meeting\, 9-5-2023
DESCRIPTION:This action is part of our Unlock the Metro Campaign to make more project-based vouchers available for suburban development. At the meeting\, the metro housing agency will present its annual plan—and our objections to it—to the Community Development Committee. They need to see that Beacon is in the house and paying attention!
URL:https://www.beaconinterfaith.org/event/met-council-community-development-committee-meeting-9-5-2023/
LOCATION:Met Council Building\, 390 Robert St. N.\, St. Paul\, MN\, 55101\, United States
CATEGORIES:Public Action
ORGANIZER;CN="Nancy Nord Bence":MAILTO:nbence@beaconinterfaith.org
END:VEVENT
BEGIN:VEVENT
DTSTART;TZID=America/Chicago:20230918T153000
DTEND;TZID=America/Chicago:20230918T173000
DTSTAMP:20260424T145741
CREATED:20230824T212455Z
LAST-MODIFIED:20230825T145741Z
UID:10001743-1695051000-1695058200@www.beaconinterfaith.org
SUMMARY:Met Council (Community Development Committee) CDC Vote on 2024 Annual Plan\, 9/18/2023
DESCRIPTION:This is the most important in-person event of the Unlock the Metro Campaign. We’re calling for 50 or more Beacon advocates to pack the room when the Community Development Committee votes on its housing agency’s annual plan. They need to know that we’ll hold them accountable!
URL:https://www.beaconinterfaith.org/event/met-council-cdc-vote-9-18-2023/
LOCATION:Met Council Building\, 390 Robert St. N.\, St. Paul\, MN\, 55101\, United States
CATEGORIES:Public Action
ORGANIZER;CN="Nancy Nord Bence":MAILTO:nbence@beaconinterfaith.org
END:VEVENT
END:VCALENDAR