BEGIN:VCALENDAR
VERSION:2.0
PRODID:-//Beacon Interfaith - ECPv6.15.20//NONSGML v1.0//EN
CALSCALE:GREGORIAN
METHOD:PUBLISH
X-WR-CALNAME:Beacon Interfaith
X-ORIGINAL-URL:https://www.beaconinterfaith.org
X-WR-CALDESC:Events for Beacon Interfaith
REFRESH-INTERVAL;VALUE=DURATION:PT1H
X-Robots-Tag:noindex
X-PUBLISHED-TTL:PT1H
BEGIN:VTIMEZONE
TZID:America/Chicago
BEGIN:DAYLIGHT
TZOFFSETFROM:-0600
TZOFFSETTO:-0500
TZNAME:CDT
DTSTART:20220313T080000
END:DAYLIGHT
BEGIN:STANDARD
TZOFFSETFROM:-0500
TZOFFSETTO:-0600
TZNAME:CST
DTSTART:20221106T070000
END:STANDARD
BEGIN:DAYLIGHT
TZOFFSETFROM:-0600
TZOFFSETTO:-0500
TZNAME:CDT
DTSTART:20230312T080000
END:DAYLIGHT
BEGIN:STANDARD
TZOFFSETFROM:-0500
TZOFFSETTO:-0600
TZNAME:CST
DTSTART:20231105T070000
END:STANDARD
BEGIN:DAYLIGHT
TZOFFSETFROM:-0600
TZOFFSETTO:-0500
TZNAME:CDT
DTSTART:20240310T080000
END:DAYLIGHT
BEGIN:STANDARD
TZOFFSETFROM:-0500
TZOFFSETTO:-0600
TZNAME:CST
DTSTART:20241103T070000
END:STANDARD
BEGIN:DAYLIGHT
TZOFFSETFROM:-0600
TZOFFSETTO:-0500
TZNAME:CDT
DTSTART:20250309T080000
END:DAYLIGHT
BEGIN:STANDARD
TZOFFSETFROM:-0500
TZOFFSETTO:-0600
TZNAME:CST
DTSTART:20251102T070000
END:STANDARD
END:VTIMEZONE
BEGIN:VEVENT
DTSTART;TZID=America/Chicago:20240220T130000
DTEND;TZID=America/Chicago:20240220T143000
DTSTAMP:20260424T155657
CREATED:20231025T162816Z
LAST-MODIFIED:20231025T162828Z
UID:10001763-1708434000-1708439400@www.beaconinterfaith.org
SUMMARY:Start with Home Rally for Affordable Housing - 2/20/24
DESCRIPTION:Please join Beacon for our Start with Home Rally for Affordable Housing on February 20\, 2024 from 1-2:30pm. We are gathering for equitable and stable housing in Minnesota! We’ll be at the Capitol Rotunda with other leading nonprofit housing organizations to make sure home is front-and-center in the minds of our elected officials as they create state budgets. \nRegister to get more information. Then invite your friends\, neighbors\, congregation members\, coworkers\, and everyone else to join you! We all benefit when we can all afford our home.
URL:https://www.beaconinterfaith.org/event/start-with-home-rally-2-20-24/
LOCATION:MN State Capitol Rotunda\, 75 Rev Dr Martin Luther King Jr Boulevard\, Saint Paul\, 55155\, United States
CATEGORIES:Policy,Public Action
ORGANIZER;CN="Nancy Nord Bence":MAILTO:nbence@beaconinterfaith.org
END:VEVENT
BEGIN:VEVENT
DTSTART;TZID=America/Chicago:20230828T130000
DTEND;TZID=America/Chicago:20230828T160000
DTSTAMP:20260424T155657
CREATED:20230810T215119Z
LAST-MODIFIED:20230815T164300Z
UID:10001738-1693227600-1693238400@www.beaconinterfaith.org
SUMMARY:60th anniversary of the March on Washington\, 8-28-2023
DESCRIPTION:Join us for this opportunity to commemorate the 60th anniversary of the March on Washington for Jobs and Freedom\, which took place on August 28\, 1963.\nIt was on this day that 250\,000 people gathered at the Lincoln Memorial in Washington\, D.C.\nThis historical moment in American history drew attention to the challenges and inequalities faced by African Americans a century after emancipation. And it was on this day that Rev. Martin Luther King Jr. delivered his famous “I Have a Dream” speech.
URL:https://www.beaconinterfaith.org/event/march-on-washington-8-28-2023/
LOCATION:MN State Capitol Rotunda\, 75 Rev Dr Martin Luther King Jr Boulevard\, Saint Paul\, 55155\, United States
ORGANIZER;CN="Harrison Bullard":MAILTO:hbullard@beaconinterfaith.org
END:VEVENT
END:VCALENDAR