BEGIN:VCALENDAR
VERSION:2.0
PRODID:-//Beacon Interfaith - ECPv6.15.20//NONSGML v1.0//EN
CALSCALE:GREGORIAN
METHOD:PUBLISH
X-ORIGINAL-URL:https://www.beaconinterfaith.org
X-WR-CALDESC:Events for Beacon Interfaith
REFRESH-INTERVAL;VALUE=DURATION:PT1H
X-Robots-Tag:noindex
X-PUBLISHED-TTL:PT1H
BEGIN:VTIMEZONE
TZID:America/Chicago
BEGIN:DAYLIGHT
TZOFFSETFROM:-0600
TZOFFSETTO:-0500
TZNAME:CDT
DTSTART:20210314T080000
END:DAYLIGHT
BEGIN:STANDARD
TZOFFSETFROM:-0500
TZOFFSETTO:-0600
TZNAME:CST
DTSTART:20211107T070000
END:STANDARD
BEGIN:DAYLIGHT
TZOFFSETFROM:-0600
TZOFFSETTO:-0500
TZNAME:CDT
DTSTART:20220313T080000
END:DAYLIGHT
BEGIN:STANDARD
TZOFFSETFROM:-0500
TZOFFSETTO:-0600
TZNAME:CST
DTSTART:20221106T070000
END:STANDARD
BEGIN:DAYLIGHT
TZOFFSETFROM:-0600
TZOFFSETTO:-0500
TZNAME:CDT
DTSTART:20230312T080000
END:DAYLIGHT
BEGIN:STANDARD
TZOFFSETFROM:-0500
TZOFFSETTO:-0600
TZNAME:CST
DTSTART:20231105T070000
END:STANDARD
END:VTIMEZONE
BEGIN:VEVENT
DTSTART;TZID=America/Chicago:20221111T120000
DTEND;TZID=America/Chicago:20221111T130000
DTSTAMP:20260424T182823
CREATED:20220622T153628Z
LAST-MODIFIED:20221109T191702Z
UID:10001607-1668168000-1668171600@www.beaconinterfaith.org
SUMMARY:‘Light the Way Home: A Beacon Fundraiser’
DESCRIPTION:Ensuring that all people have a home will require the investment of both public and private funds. ‘Light the Way Home’ offers an invitation for community members to give generously and come together to address housing instability. \nThere is no requirement to give\, cost to the luncheon\, or any minimum gift\, but we think that you’ll be inspired to join us with your donation or multi-year pledge. Every gift matters and every donation is more than a gift\, it’s another person who has joined with us to say that now is the time that all people have a home. \nSave the date for ‘Light the Way Home: A Beacon Fundraiser!’ Join a community of supporters inspired to create homes\, support families\, and impact policy to achieve our vision that all people have a home. \nFriday\, November 11\, 2022\n12 – 1 p.m.\nFree and in-person \nRadisson Blu at Mall of America\n2100 Killebrew Dr\, Bloomington\, MN 55425 \nVisit www.beaconinterfaith.org/light/ to learn more. \nRegistration for this event has closed. If you have any questions\, please reach out to Matt Lawton at mlawton@beaconinterfaith.org \nEvent Details for Attendees\nLocation\nRadisson Blu at Mall of America\n2100 Killebrew Drive\, Bloomington\, Minnesota 55425 \nRegistration Check-In\nRegistration check-in opens at 11:30 a.m. Please arrive no later than 11:45 as our program will begin promptly at noon. \nEvent Begins Promptly at Noon\nIf you arrive after the event starts\, you will be asked to wait until there is an appropriate pause in the presentation to be seated. We ask that guests consider the possibility of inclement weather and any extra time needed to navigate parking. \nParking\nFree parking is available in the East and West ramps at the Mall of America. Please allow ample time (approximately 10-15 minutes) to walk from the parking ramp to the Radisson Blu. The mall has directions to the hotel at each of the informational kiosks. Alternatively\, complementary valet parking will be offered for anyone who chooses. If you choose to valet your car\, Beacon will provide you a parking voucher at registration that you will use when retrieving your vehicle at the end of the event. \nDirections to Radisson Blu from Inside the Mall of America\nThe Radisson Blu is located at the south side of the mall.\nEnter from the Mall of America on the second floor\, via skyway. ‘Light the Way Home’ will be in the Lakes Ballroom. \nDirections from Valet Parking\nValet parking is available on the ground level of the hotel. Enter the Radisson Blu at the valet station and proceed to level 2 and the Lakes Ballroom. \n  \nQuestions?\nPlease contact Matt Lawton\, events coordinator at mlawton@beaconinterfaith.org. \nThank you for helping us light the way home! We look forward to seeing you Friday!
URL:https://www.beaconinterfaith.org/event/light-the-way-home-a-beacon-fundraiser/
LOCATION:Radisson Blu at Mall of America\, 2100 Killebrew Drive\, Bloomington\, MN\, 55425\, United States
CATEGORIES:Fundraiser
END:VEVENT
END:VCALENDAR