BEGIN:VCALENDAR
VERSION:2.0
PRODID:-//Beacon Interfaith - ECPv6.15.20//NONSGML v1.0//EN
CALSCALE:GREGORIAN
METHOD:PUBLISH
X-WR-CALNAME:Beacon Interfaith
X-ORIGINAL-URL:https://www.beaconinterfaith.org
X-WR-CALDESC:Events for Beacon Interfaith
REFRESH-INTERVAL;VALUE=DURATION:PT1H
X-Robots-Tag:noindex
X-PUBLISHED-TTL:PT1H
BEGIN:VTIMEZONE
TZID:America/Chicago
BEGIN:DAYLIGHT
TZOFFSETFROM:-0600
TZOFFSETTO:-0500
TZNAME:CDT
DTSTART:20190310T080000
END:DAYLIGHT
BEGIN:STANDARD
TZOFFSETFROM:-0500
TZOFFSETTO:-0600
TZNAME:CST
DTSTART:20191103T070000
END:STANDARD
BEGIN:DAYLIGHT
TZOFFSETFROM:-0600
TZOFFSETTO:-0500
TZNAME:CDT
DTSTART:20200308T080000
END:DAYLIGHT
BEGIN:STANDARD
TZOFFSETFROM:-0500
TZOFFSETTO:-0600
TZNAME:CST
DTSTART:20201101T070000
END:STANDARD
BEGIN:DAYLIGHT
TZOFFSETFROM:-0600
TZOFFSETTO:-0500
TZNAME:CDT
DTSTART:20210314T080000
END:DAYLIGHT
BEGIN:STANDARD
TZOFFSETFROM:-0500
TZOFFSETTO:-0600
TZNAME:CST
DTSTART:20211107T070000
END:STANDARD
BEGIN:DAYLIGHT
TZOFFSETFROM:-0600
TZOFFSETTO:-0500
TZNAME:CDT
DTSTART:20220313T080000
END:DAYLIGHT
BEGIN:STANDARD
TZOFFSETFROM:-0500
TZOFFSETTO:-0600
TZNAME:CST
DTSTART:20221106T070000
END:STANDARD
BEGIN:DAYLIGHT
TZOFFSETFROM:-0600
TZOFFSETTO:-0500
TZNAME:CDT
DTSTART:20230312T080000
END:DAYLIGHT
BEGIN:STANDARD
TZOFFSETFROM:-0500
TZOFFSETTO:-0600
TZNAME:CST
DTSTART:20231105T070000
END:STANDARD
BEGIN:DAYLIGHT
TZOFFSETFROM:-0600
TZOFFSETTO:-0500
TZNAME:CDT
DTSTART:20240310T080000
END:DAYLIGHT
BEGIN:STANDARD
TZOFFSETFROM:-0500
TZOFFSETTO:-0600
TZNAME:CST
DTSTART:20241103T070000
END:STANDARD
END:VTIMEZONE
BEGIN:VEVENT
DTSTART;TZID=America/Chicago:20230907T183000
DTEND;TZID=America/Chicago:20230907T220000
DTSTAMP:20260424T170847
CREATED:20230804T145048Z
LAST-MODIFIED:20230804T151347Z
UID:10001736-1694111400-1694124000@www.beaconinterfaith.org
SUMMARY:Shakopee Planning Commission: Prairie Pointe\, September 7
DESCRIPTION:The City of Shakopee approved land use for Prairie Pointe—affordable housing for families—in 2020 because of how vital the development is in meeting the community’s needs and how deeply the projects align with the city’s stated goals and commitments around housing. The community and the city already came together around this development as a crucial answer to solving the growing concerns of housing instability. \nBut now\, a proposal seeks to undermine these community decisions by pushing to unlawfully rezone the property in direct opposition to the city’s stated values and goals. \nShow up in solidarity with Prairie Pointe at the Planning Commission meeting (we’ll gather at 6:30 p.m. to prepare for the meeting at 7 p.m.) on September 7 and demonstrate that you believe quality affordable housing belongs in all communities! \nNote: This is an in-person-only event.
URL:https://www.beaconinterfaith.org/event/shakopee-planning-commission-prairie-pointe-9-7-2023/
LOCATION:Shakopee City Hall\, 485 Gorman St\, Shakopee\, 55379\, United States
CATEGORIES:Public Action
ORGANIZER;CN="Ricky Kamil":MAILTO:rkamil@beaconinterfaith.org
END:VEVENT
BEGIN:VEVENT
DTSTART;TZID=America/Chicago:20230803T183000
DTEND;TZID=America/Chicago:20230803T220000
DTSTAMP:20260424T170847
CREATED:20230622T201429Z
LAST-MODIFIED:20230727T154253Z
UID:10001723-1691087400-1691100000@www.beaconinterfaith.org
SUMMARY:Shakopee Planning Commission: Prairie Pointe
DESCRIPTION:The City of Shakopee approved land use for Prairie Pointe\, supportive housing for families\, in 2020 because of how important the development is in meeting the needs of the community and how deeply the projects align with the city’s stated goals and commitments around housing. The community and the city already came together around this development as a key answer to solving the growing concerns of housing instability. \nBut now\, there is a proposal seeking to undermine these community decisions by pushing to unlawfully rezone the property in direct opposition to the city’s stated values and goals. We are shocked that the Planning Commission is considering this unprecedented move to invalidate the community decision to support Prairie Pointe and the dedicated investments that have been made. \nShow up in solidarity with Prairie Pointe at the Planning Commission meeting (we’ll gather at 6:30 p.m. to prepare for the meeting at 7 p.m.) on August 3 and demonstrate that you believe quality affordable housing belongs in all communities! \nNote: This is an in-person-only event.
URL:https://www.beaconinterfaith.org/event/shakopee-planning-commission-8-3-2023/
LOCATION:Shakopee City Hall\, 485 Gorman St\, Shakopee\, 55379\, United States
END:VEVENT
BEGIN:VEVENT
DTSTART;TZID=America/Chicago:20230608T180000
DTEND;TZID=America/Chicago:20230608T203000
DTSTAMP:20260424T170847
CREATED:20230531T210446Z
LAST-MODIFIED:20230607T165055Z
UID:10001720-1686247200-1686256200@www.beaconinterfaith.org
SUMMARY:Prairie Pointe: Press Conference and Shakopee Planning Commission – 6/8/23
DESCRIPTION:The City of Shakopee approved land use for Prairie Pointe\, supportive housing for families\, in 2020 because of how important the development is in meeting the needs of the community and how deeply the projects aligns with the city’s stated goals and commitments around housing. The community and the city already came together around this development as a key answer to solving the growing concerns of housing instability. \nBut now\, there is a group seeking to undermine these community decisions by pushing to rezone the property in opposition to the city’s stated values and goals. We are shocked that the Planning Commission and City Council are considering this unprecedented move to invalidate the community decision to support Prairie Pointe and the dedicated investments that have been made. \nShow up in solidarity with Prairie Pointe for a press conference (at 6:15 p.m.) and the Planning Commission meeting (at 7 p.m.) on June 8 and demonstrate that you believe quality affordable housing belongs in all communities! \nNote: This is an in-person only event.
URL:https://www.beaconinterfaith.org/event/prairie-pointe-6-8-23/
LOCATION:Shakopee City Hall\, 485 Gorman St\, Shakopee\, 55379\, United States
CATEGORIES:Policy,Public Action
END:VEVENT
BEGIN:VEVENT
DTSTART;TZID=America/Chicago:20200602T190000
DTEND;TZID=America/Chicago:20200602T190000
DTSTAMP:20260424T170847
CREATED:20200331T192932Z
LAST-MODIFIED:20200520T171040Z
UID:10001344-1591124400-1591124400@www.beaconinterfaith.org
SUMMARY:Prairie Pointe: City Council Vote - 6/2/20
DESCRIPTION:Show up for Prairie Pointe at the crucial city council vote! \nYou are encouraged to join us either in person or on a virtual event. Our first priority is to keep everyone safe. \nIf you’re joining us in person: \n\nYou must wear a face mask;\nPlease keep a distance of at least 6 feet between you and other participants;\nPlease wear RED and consider creating a sign to demonstrate your support;\nThere will be an outdoor rally beginning at 6:30 p.m. which will include details on how the evening will run.\n\nIf you’re joining us virtually\, there will be a link to login included in your confirmation email. \nFor more information\, please call Justin Lewandowski at (320) 250-6630 or email him. \nThank you for registering and inviting others – especially Shakopee residents! – to join you. \n 
URL:https://www.beaconinterfaith.org/event/prairie-pointe-city-council-vote/
LOCATION:Shakopee City Hall\, 485 Gorman St\, Shakopee\, 55379\, United States
CATEGORIES:Create New Homes,Public Action
END:VEVENT
BEGIN:VEVENT
DTSTART;TZID=America/Chicago:20200507T190000
DTEND;TZID=America/Chicago:20200507T210000
DTSTAMP:20260424T170847
CREATED:20200304T204752Z
LAST-MODIFIED:20200331T192925Z
UID:10001341-1588878000-1588885200@www.beaconinterfaith.org
SUMMARY:Prairie Pointe: Planning Commission Vote - 5/7/20
DESCRIPTION:For Prairie Pointe to keep moving forward we need to make sure our elected officials see us and hear from us. \nThat is why Shakopee residents and folks from across the entire collaborative need to show up and demonstrate to the Shakopee Planning Commission how much our communities support Prairie Pointe! Show up wearing red – Shakopee High School’s color! – to demonstrate your support. \nFor more information\, please call Justin Lewandowski at (320) 250-6630 or email him. \n**Please note: due to COVID-19 we are unsure whether this vote will be held in-person at the Shakopee City Hall or virtually. Either way\, it will be important for us to have a strong presence for this critical vote\, so please register so we can get you the latest information** \nRegister below:
URL:https://www.beaconinterfaith.org/event/prairie-pointe-planning-commission-vote/
LOCATION:Shakopee City Hall\, 485 Gorman St\, Shakopee\, 55379\, United States
CATEGORIES:Create New Homes,Public Action
END:VEVENT
END:VCALENDAR