BEGIN:VCALENDAR
VERSION:2.0
PRODID:-//Beacon Interfaith - ECPv6.15.20//NONSGML v1.0//EN
CALSCALE:GREGORIAN
METHOD:PUBLISH
X-WR-CALNAME:Beacon Interfaith
X-ORIGINAL-URL:https://www.beaconinterfaith.org
X-WR-CALDESC:Events for Beacon Interfaith
REFRESH-INTERVAL;VALUE=DURATION:PT1H
X-Robots-Tag:noindex
X-PUBLISHED-TTL:PT1H
BEGIN:VTIMEZONE
TZID:America/Chicago
BEGIN:DAYLIGHT
TZOFFSETFROM:-0600
TZOFFSETTO:-0500
TZNAME:CDT
DTSTART:20210314T080000
END:DAYLIGHT
BEGIN:STANDARD
TZOFFSETFROM:-0500
TZOFFSETTO:-0600
TZNAME:CST
DTSTART:20211107T070000
END:STANDARD
BEGIN:DAYLIGHT
TZOFFSETFROM:-0600
TZOFFSETTO:-0500
TZNAME:CDT
DTSTART:20220313T080000
END:DAYLIGHT
BEGIN:STANDARD
TZOFFSETFROM:-0500
TZOFFSETTO:-0600
TZNAME:CST
DTSTART:20221106T070000
END:STANDARD
BEGIN:DAYLIGHT
TZOFFSETFROM:-0600
TZOFFSETTO:-0500
TZNAME:CDT
DTSTART:20230312T080000
END:DAYLIGHT
BEGIN:STANDARD
TZOFFSETFROM:-0500
TZOFFSETTO:-0600
TZNAME:CST
DTSTART:20231105T070000
END:STANDARD
BEGIN:DAYLIGHT
TZOFFSETFROM:-0600
TZOFFSETTO:-0500
TZNAME:CDT
DTSTART:20240310T080000
END:DAYLIGHT
BEGIN:STANDARD
TZOFFSETFROM:-0500
TZOFFSETTO:-0600
TZNAME:CST
DTSTART:20241103T070000
END:STANDARD
END:VTIMEZONE
BEGIN:VTIMEZONE
TZID:UTC
BEGIN:STANDARD
TZOFFSETFROM:+0000
TZOFFSETTO:+0000
TZNAME:UTC
DTSTART:20180101T000000
END:STANDARD
END:VTIMEZONE
BEGIN:VEVENT
DTSTART;TZID=America/Chicago:20230823T073000
DTEND;TZID=America/Chicago:20230823T090000
DTSTAMP:20260424T182702
CREATED:20230725T212506Z
LAST-MODIFIED:20230810T171207Z
UID:10001730-1692775800-1692781200@www.beaconinterfaith.org
SUMMARY:Clergy and Leader Breakfast for Aster Commons
DESCRIPTION:Are you a fan of breakfast food\, socializing\, and learning from fellow leaders within your community. Then you’re in luck! Join us for a breakfast engaging Richfield leaders and clergy at Woodlake Lutheran Church! In addition to providing a healthy start to your day\, this breakfast will offer the opportunity to learn about the development of Aster Commons and its future impact on the community. See you there!
URL:https://www.beaconinterfaith.org/event/clergy-and-leader-breakfast-aster-commons-8-23/
LOCATION:Woodlake Lutheran Church\, 2120 W 76th St\, Richfield\, MN\, 55423\, United States
ORGANIZER;CN="Ricky Kamil":MAILTO:rkamil@beaconinterfaith.org
END:VEVENT
BEGIN:VEVENT
DTSTART;TZID=America/Chicago:20220428T190000
DTEND;TZID=America/Chicago:20220428T203000
DTSTAMP:20260424T182702
CREATED:20220323T131422Z
LAST-MODIFIED:20220324T124501Z
UID:10001581-1651172400-1651177800@www.beaconinterfaith.org
SUMMARY:West Metro Development Preview - 4/28/22
DESCRIPTION:Get a preview of Beacon’s newest supportive housing! Join us to learn more about how this exciting\, unique development will help meet the affordable housing needs in the western Twin Cities suburbs. Find out what it takes to create these essential homes and how you can get involved. \nAttend in person at Woodlake Lutheran Church or virtually on Zoom. Register to get all the info and let us know you’ll be there. Then\, invite a friend or member of your congregation to join you!
URL:https://www.beaconinterfaith.org/event/west-metro-preview-4-28-22/
LOCATION:Woodlake Lutheran Church\, 2120 W 76th St\, Richfield\, MN\, 55423\, United States
CATEGORIES:Create New Homes
END:VEVENT
BEGIN:VEVENT
DTSTART;TZID=UTC:20190819T180000
DTEND;TZID=UTC:20190819T180000
DTSTAMP:20260424T182702
CREATED:20190812T193055Z
LAST-MODIFIED:20190813T012515Z
UID:10001310-1566237600-1566237600@www.beaconinterfaith.org
SUMMARY:Leadership Assembly: Suburban Hennepin\, Carver\, Scott
DESCRIPTION:Beacon Leadership Teams in congregations are encouraged to attend this important gathering. Get updated on the work of the collaborative and begin to plan the congregation’s related work for the new year\, all while building relationships with one another and other teams. \nThis assembly will focus on teams from Suburban Hennepin and Scott and Carver counties but is open to any Beacon Leadership Teams. If this date does not work for your team\, you can register for the the other assembly on August 15. \nDinner will be provided. \n 
URL:https://www.beaconinterfaith.org/event/leadership-assembly-suburban-hennepin-carver-scott/
LOCATION:Woodlake Lutheran Church\, 2120 W 76th St\, Richfield\, MN\, 55423\, United States
CATEGORIES:Congregation Leadership
END:VEVENT
END:VCALENDAR